BEGIN:VCALENDAR
VERSION:2.0
CALSCALE:GREGORIAN
PRODID:adamgibbons/ics
METHOD:PUBLISH
X-PUBLISHED-TTL:PT1H
BEGIN:VEVENT
UID:355@tucsontimeline.info
SUMMARY:RADIANT RUIN: performance by Logan Phillips & gallery show opening
DTSTAMP:20260423T045959Z
DTSTART:20250817T020000Z
DTEND:20250817T050000Z
DESCRIPTION:Join us for a Tucson summer evening of art + music featuring a 
	performance by\nLogan Phillips (spoken word / video projection / sound scu
	lpture) and music by\nan incredible line up of DJ’s: Humbleianess\, DJQ & 
	Menopause the DJ.\n\n\nSATURDAY\, AUGUST 16TH 2025\n7-10PM\, ALL AGES\, FR
	EE\n\n\n\n\nCOMMUNION ON CONVENT\, 382 S. CONVENT AVENUE\n\n\n\nShow up th
	rough September 20th\, 2025\n\nRADIANT RUIN is the closing ritual for the 
	most recent cycle of NoVoGRAFíAS\n[https://www.dirtyverbs.com/novografias/
	] by Logan Phillips. A gallery show\ncurated by Phillips and Sydney Balles
	teros of COMMUNION\n[https://www.instagram.com/communiononconvent/] featur
	ing a set of 21 metal\nprints\, each in an edition of one\, never to be re
	produced in this format. The\nprints are drawn from Phillips' work in the 
	triptych of the "urban\npsychogeography spellbooks" NoVoGRAFÍAS 02\, 03 & 
	04. Combining elements of\nphotography\, collage\, sigilism and visual poe
	try\, these images come from the\nintersections of dream logic and the quo
	tidian built environment\, exploring\ncycles of capitalist colonialism and
	 concurrent time\, as witnessed from the\nvantage of Phillips' home in dow
	ntown Tucson\, Arizona.\n\nSince 2010 the NoVoGRAFÍAS series has been poet
	 Logan Phillips' vehicle to\nresearch and develop new approaches to writin
	g and performance. Through\ninstallations\, durational performance\, art o
	bjects and print\, Phillips explores\nthe somatic experience of poem arriv
	ing to poet\, hypnogogia and threshold\nconsciousness\, spells and the bui
	lt environment of the aridlands.
URL:https://tucsontimeline.info/event/radiant-ruin-performance-by-logan-phi
	llips-and-gallery-show-opening
LOCATION:Communion on Convent - 382 S. Convent Ave.\, Tucson\, AZ 85701
STATUS:CONFIRMED
CATEGORIES:dj,drone,gallery,gallery opening,poetry,sound art,video,video pr
	ojection
X-ALT-DESC;FMTTYPE=text/html:<p>Join us for a Tucson summer evening of art 
	+ music featuring a <strong>performance by Logan Phillips</strong> (spoken
	 word / video projection / sound sculpture) and music by an incredible lin
	e up of DJ’s: <strong>Humbleianess, DJQ &amp; Menopause the DJ</strong>.</
	p><h2>Saturday, August 16th 2025<br>7-10pm, all ages, FREE</h2><p></p><h2>
	Communion on Convent, 382 S. Convent Avenue</h2><p></p><p><strong>Show up 
	through September 20th, 2025</strong></p><p>RADIANT RUIN is the closing ri
	tual for the most recent cycle of <a target="_blank" href="https://www.dir
	tyverbs.com/novografias/">NoVoGRAFíAS</a> by Logan Phillips. A gallery sho
	w curated by Phillips and Sydney Ballesteros of <a target="_blank" href="h
	ttps://www.instagram.com/communiononconvent/">COMMUNION</a> featuring <str
	ong>a set of 21 metal prints, each in an edition of one, never to be repro
	duced in this format.</strong> The prints are drawn from Phillips' work in
	 the triptych of the "urban psychogeography spellbooks" NoVoGRAFÍAS 02, 03
	 &amp; 04. Combining elements of photography, collage, sigilism and visual
	 poetry, these images come from the intersections of dream logic and the q
	uotidian built environment, exploring cycles of capitalist colonialism and
	 concurrent time, as witnessed from the vantage of Phillips' home in downt
	own Tucson, Arizona.</p><p>Since 2010 the NoVoGRAFÍAS series has been poet
	 Logan Phillips' vehicle to research and develop new approaches to writing
	 and performance. Through installations, durational performance, art objec
	ts and print, Phillips explores the somatic experience of poem arriving to
	 poet, hypnogogia and threshold consciousness, spells and the built enviro
	nment of the aridlands.</p>
END:VEVENT
BEGIN:VEVENT
UID:314@tucsontimeline.info
SUMMARY:Claire A. Warden Video Works Opening
DTSTAMP:20260423T045959Z
DTSTART:20250619T013000Z
DESCRIPTION:Experience selected video works of Phoenix based artist Claire 
	A. Warden at\nPidgin Palace Arts\, Wednesday\, June 18\, 6:30pm – 8:00pm.\
	n@claireawarden [https://www.instagram.com/claireawarden/]\n\n“Becoming My
	 Portrait\,” 2024\, is a silent projection. This work marks a return\nto t
	he apparatus while maintaining a dialogue with Warden’s cameraless\nphotog
	raphs. The durational self-portrait was exposed in camera with 16mm\nblack
	-and-white reversal film. After development\, Warden used the same process
	\nas in the “Mimesis” series to progressively break down the emulsion of t
	he film.\nAs the granules of silver begin to unbind themselves from the de
	teriorating\nemulsion layer\, her gaze at the viewer is unflinching. She r
	emains present\nwhether the viewer can see her or not.\n\n✨See you here✨
URL:https://tucsontimeline.info/event/claire-a-warden-video-works-opening
LOCATION:Pidgin Palace - 1110 S 6th Ave\, Tucson\, AZ 85701
STATUS:CONFIRMED
CATEGORIES:art,movie,opening,video
X-ALT-DESC;FMTTYPE=text/html:<p>Experience selected video works of Phoenix 
	based artist Claire A. Warden at Pidgin Palace Arts, Wednesday, June 18, 6
	:30pm – 8:00pm.<br><a target="_blank" href="https://www.instagram.com/clai
	reawarden/">@claireawarden</a><br><br>“Becoming My Portrait,” 2024, is a s
	ilent projection. This work marks a return to the apparatus while maintain
	ing a dialogue with Warden’s cameraless photographs. The durational self-p
	ortrait was exposed in camera with 16mm black-and-white reversal film. Aft
	er development, Warden used the same process as in the “Mimesis” series to
	 progressively break down the emulsion of the film. As the granules of sil
	ver begin to unbind themselves from the deteriorating emulsion layer, her 
	gaze at the viewer is unflinching. She remains present whether the viewer 
	can see her or not.<br><br>✨See you here✨</p>
END:VEVENT
BEGIN:VEVENT
UID:19@tucsontimeline.info
SUMMARY:Cultural Detox Syndicate\, Worker and Parasite and Marcos Serafim
DTSTAMP:20260423T045959Z
DTSTART:20241024T020000Z
DTEND:20241024T050000Z
DESCRIPTION:Three multimedia acts. CDS at this time will be interdisciplina
	ry artist\nJaqueline Arias. Worker and Parasite are Sleep of Eons (music) 
	and Jellotonin\n(video). Marcos Serafim is a Brazilian artist who explores
	 extreme tensions\nbetween data\, media\, reality\, and representation.
URL:https://tucsontimeline.info/event/cultural-detox-syndicate-worker-and-p
	arasite-and-marcos-serafim
LOCATION:Golden Saguaro - 609 East 6th Street
STATUS:CONFIRMED
CATEGORIES:music,performance,video
X-ALT-DESC;FMTTYPE=text/html:<p><strong>Three multimedia acts.</strong> CDS
	 at this time will be interdisciplinary artist Jaqueline Arias. Worker and
	 Parasite are Sleep of Eons (music) and Jellotonin (video). Marcos Serafim
	 is a Brazilian artist who explores extreme tensions between data, media, 
	reality, and representation.</p>
END:VEVENT
END:VCALENDAR
