BEGIN:VCALENDAR
VERSION:2.0
CALSCALE:GREGORIAN
PRODID:adamgibbons/ics
METHOD:PUBLISH
X-PUBLISHED-TTL:PT1H
BEGIN:VEVENT
UID:306@tucsontimeline.info
SUMMARY:Mend & Mingle
DTSTAMP:20260423T111844Z
DTSTART:20250628T220000Z
DTEND:20250629T020000Z
DESCRIPTION:Our next Mend & Mingle date just dropped! Bring your stained\, 
	torn or tattered\nclothing and revive it with the help of some visible men
	ding and community!\n\nAnyone in a period transition is welcome to use the
	 Closet’s free clothing\nexchange. Let us know if you’d like a physical fl
	yer!\n\nEvent details below!\n\nJune 28th\, from 3pm-7pm\n\n122 N Craycrof
	t Rd\,\n\nTucson AZ 85711\n\nmeet us near the back courtyard!\n\ninsta: @t
	hecloset_rce\n\nemail: thecloset_rce@aol.com
URL:https://tucsontimeline.info/event/mend-and-mingle-2
LOCATION:the Closet - 122 N Craycroft Rd
STATUS:CONFIRMED
CATEGORIES:art,community,crafting,free,sustainability
X-ALT-DESC;FMTTYPE=text/html:<p>Our next Mend &amp; Mingle date just droppe
	d! Bring your stained, torn or tattered clothing and revive it with the he
	lp of some visible mending and community! </p><p>Anyone in a period transi
	tion is welcome to use the Closet’s free clothing exchange. Let us know if
	 you’d like a physical flyer! </p><p>Event details below! </p><p>June 28th
	, from 3pm-7pm </p><p>122 N Craycroft Rd, </p><p>Tucson AZ 85711</p><p>mee
	t us near the back courtyard!</p><p>insta: @thecloset_rce</p><p>email: the
	closet_rce@aol.com</p>
END:VEVENT
BEGIN:VEVENT
UID:223@tucsontimeline.info
SUMMARY:Mend & Mingle
DTSTAMP:20260423T111844Z
DTSTART:20250329T150000Z
DTEND:20250329T220000Z
DESCRIPTION:*OFFICAL OPENING!!!*\n\nlt has been a wild ride\, but thanks to
	 our amazing crew of volunteers\, we will\nbe ready to open March 29th wit
	h a Mend & Mingle! Bring your thoroughly loved\npieces and learn practical
	 ways to practice sustainablity and anti-consumerism\nby making sure the c
	lothes we have are wearable for longer! This will be a\nmasked event! 😷\n\
	nThere will be a huge spectrum of experiences and a variety of supplies of
	fered\nfor communal use during the event such as a sewing maching\, darnin
	g looms\,\nthread\, embroidery floss\, embroidery hoops and other hand sew
	ing accessories! If\nyou are interested in contributing to communal suppli
	es\, feel free to shoot us a\nDM.\n\nExchanges will be open as Mend & Ming
	le goes on!
URL:https://tucsontimeline.info/event/mend-and-mingle
LOCATION:the Closet - 122 N Craycroft Rd
STATUS:CONFIRMED
CATEGORIES:community,fiber arts,qtbipoc+,sustainability
X-ALT-DESC;FMTTYPE=text/html:<p>*<strong>OFFICAL OPENING!!!</strong>*</p><p
	>lt has been a wild ride, but thanks to our amazing crew of volunteers, we
	 will be ready to open March 29th with a Mend &amp; Mingle! Bring your tho
	roughly loved pieces and learn practical ways to practice sustainablity an
	d anti-consumerism by making sure the clothes we have are wearable for lon
	ger! This will be a masked event! 😷</p><p>There will be a huge spectrum of
	 experiences and a variety of supplies offered for communal use during the
	 event such as a sewing maching, darning looms, thread, embroidery floss, 
	embroidery hoops and other hand sewing accessories! If you are interested 
	in contributing to communal supplies, feel free to shoot us a DM.</p><p>Ex
	changes will be open as Mend &amp; Mingle goes on! </p>
END:VEVENT
END:VCALENDAR
