BEGIN:VCALENDAR
VERSION:2.0
CALSCALE:GREGORIAN
PRODID:adamgibbons/ics
METHOD:PUBLISH
X-PUBLISHED-TTL:PT1H
BEGIN:VEVENT
UID:295@tucsontimeline.info
SUMMARY:NOW SHOWING: SON OF GODZILLA
DTSTAMP:20260423T082012Z
DTSTART:20250531T020000Z
DESCRIPTION:Get Ready for a MONSTROUSLY Fun Night!\n\nOutsider Arts and B-M
	ovie Night presents:\nSON OF GODZILLA (1967)\n💥Hosted by Miss Baltimore Bo
	mbshell💥\n\nPrepare to journey to a remote island where a scientific exper
	iment goes\nhilariously awry\, hatching a new addition to the kaiju family
	 – Minilla\, the\nadorable but mischievous son of the King of the Monsters
	!\n\nThis classic Shōwa era film is known for its lighthearted tone\, clev
	er humor\,\nand captivating story\, where humans attempt to control the is
	land’s climate but\ninstead encounter the surprising family of kaiju.\n\nD
	on’t miss this chance to see Godzilla in a whole new light!\n\nFriday\, Ma
	y 30th\n7pm\n$4\n\n🦖
URL:https://tucsontimeline.info/event/now-showing-son-of-godzilla
LOCATION:Pidgin Palace - 1110 S 6th Ave\, Tucson\, AZ 85701
STATUS:CONFIRMED
CATEGORIES:cinema,cult,movie,screening,showing
X-ALT-DESC;FMTTYPE=text/html:<p>Get Ready for a MONSTROUSLY Fun Night!<br><
	br>Outsider Arts and B-Movie Night presents:<br>SON OF GODZILLA (1967)<br>
	💥Hosted by Miss Baltimore Bombshell💥<br><br>Prepare to journey to a remote
	 island where a scientific experiment goes hilariously awry, hatching a ne
	w addition to the kaiju family – Minilla, the adorable but mischievous son
	 of the King of the Monsters!<br><br>This classic Shōwa era film is known 
	for its lighthearted tone, clever humor, and captivating story, where huma
	ns attempt to control the island’s climate but instead encounter the surpr
	ising family of kaiju.<br><br>Don’t miss this chance to see Godzilla in a 
	whole new light!<br><br>Friday, May 30th<br>7pm<br>$4<br><br>🦖</p>
END:VEVENT
END:VCALENDAR
