BEGIN:VCALENDAR
VERSION:2.0
CALSCALE:GREGORIAN
PRODID:adamgibbons/ics
METHOD:PUBLISH
X-PUBLISHED-TTL:PT1H
BEGIN:VEVENT
UID:294@tucsontimeline.info
SUMMARY:Transitions: Poetry Reading + Open Mic
DTSTAMP:20260423T094737Z
DTSTART:20250601T020000Z
DTEND:20250601T050000Z
DESCRIPTION:A poetry reading and Open Mic @pidginpalace\n[https://www.insta
	gram.com/pidginpalace/]\n\nSaturday night at 7:30 we welcome Joshua Turek\
	, Louis Davis\, ELmer Alvarez\,\nPaige Camille\, Abi Denninghoff\, & Karin
	a Marcano\n\nEach piece is a ripple. Let it move you!\n\nOpen mic begins a
	t 8:30\, you can read poetry\, sing a song\, scream into the void\,\nor te
	ll us about your transitions. The stage is yours.\n\nSign up starts at 5! 
	We’ll see you here.
URL:https://tucsontimeline.info/event/transitions-poetry-reading-open-mic
LOCATION:Pidgin Palace - 1110 S 6th Ave\, Tucson\, AZ 85701
STATUS:CONFIRMED
CATEGORIES:#poetry #openmic,art,showandtell
X-ALT-DESC;FMTTYPE=text/html:<p>A poetry reading and Open Mic <a target="_b
	lank" href="https://www.instagram.com/pidginpalace/">@pidginpalace</a><br>
	<br>Saturday night at 7:30 we welcome Joshua Turek, Louis Davis, ELmer Alv
	arez, Paige Camille, Abi Denninghoff, &amp; Karina Marcano<br><br>Each pie
	ce is a ripple. Let it move you!<br><br>Open mic begins at 8:30, you can r
	ead poetry, sing a song, scream into the void, or tell us about your trans
	itions. The stage is yours.<br><br>Sign up starts at 5! We’ll see you here
	.</p>
END:VEVENT
END:VCALENDAR
