BEGIN:VCALENDAR
VERSION:2.0
CALSCALE:GREGORIAN
PRODID:adamgibbons/ics
METHOD:PUBLISH
X-PUBLISHED-TTL:PT1H
BEGIN:VEVENT
UID:188@tucsontimeline.info
SUMMARY:Protest Against Border Patrol
DTSTAMP:20260423T155239Z
DTSTART:20250220T153000Z
URL:https://tucsontimeline.info/event/protest-against-border-patrol
LOCATION:Rudy Garcia Park - 5001 S. Nogales Highway
STATUS:CONFIRMED
CATEGORIES:activism,protest
END:VEVENT
END:VCALENDAR
