BEGIN:VCALENDAR
VERSION:2.0
CALSCALE:GREGORIAN
PRODID:adamgibbons/ics
METHOD:PUBLISH
X-PUBLISHED-TTL:PT1H
BEGIN:VEVENT
UID:39@tucsontimeline.info
SUMMARY:Grandparents & Me HeART Playgroup
DTSTAMP:20260423T161140Z
DTSTART:20241002T163000Z
DTEND:20241002T173000Z
DESCRIPTION:This play group builds relationships between our older and youn
	ger generations -\nthrough activities that foster learning\, kindness\, an
	d joy for all. Families get\nthe opportunity to get a little messy in the 
	art making process
URL:https://tucsontimeline.info/event/grandparents-and-me-heart-playgroup
LOCATION:The Drawing Studio - 2760 N. Tucson Blvd. Tucson\, Arizona 85716
STATUS:CONFIRMED
CATEGORIES:art,elders,kids,play
X-ALT-DESC;FMTTYPE=text/html:<p>This play group builds relationships betwee
	n our older and younger generations - through activities that foster learn
	ing, kindness, and joy for all.&nbsp;Families get the opportunity to get a
	 little messy in the art making process</p>
END:VEVENT
END:VCALENDAR
