BEGIN:VCALENDAR
VERSION:2.0
CALSCALE:GREGORIAN
PRODID:adamgibbons/ics
METHOD:PUBLISH
X-PUBLISHED-TTL:PT1H
BEGIN:VEVENT
UID:24@tucsontimeline.info
SUMMARY:Fall Desert Survivors Nursery Public Sale
DTSTAMP:20260423T121326Z
DTSTART:20240922T150000Z
DTEND:20240928T230000Z
DESCRIPTION:Public days of the annual fall sale at Tucson's rad nonprofit n
	ative plants\nnursery\, Desert Survivors [https://desertsurvivors.org]
URL:https://tucsontimeline.info/event/fall-desert-survivors-nusery-public-s
	ale
LOCATION:Desert Survivors - 1020 W Starr Pass Blvd\, Tucson\, AZ 85713
STATUS:CONFIRMED
CATEGORIES:good causes,plants,shopping
X-ALT-DESC;FMTTYPE=text/html:<p>Public days of the annual fall sale at Tucs
	on's rad nonprofit native plants nursery, <a href="https://desertsurvivors
	.org" target="_blank">Desert Survivors </a></p>
END:VEVENT
END:VCALENDAR
