BEGIN:VCALENDAR
VERSION:2.0
CALSCALE:GREGORIAN
PRODID:adamgibbons/ics
METHOD:PUBLISH
X-PUBLISHED-TTL:PT1H
BEGIN:VEVENT
UID:538@tucsontimeline.info
SUMMARY:Birdbath and more
DTSTAMP:20260425T223415Z
DTSTART:20260401T020000Z
DESCRIPTION:noise performance duo Birdbath\, with locals Lobsel Vith\, Ball
	gag\, Mess.a.lina\,\nBionightmare $10
URL:https://tucsontimeline.info/event/birdbath-and-more
LOCATION:Splinter Collective - 901 N 13th Ave\, Tucson\, AZ 85705
STATUS:CONFIRMED
CATEGORIES:experimental,music,noise,performance
X-ALT-DESC;FMTTYPE=text/html:<p>noise performance duo <strong>Birdbath</str
	ong>, with locals <strong>Lobsel Vith, Ballgag, Mess.a.lina, Bionightmare<
	/strong>    $10</p>
END:VEVENT
BEGIN:VEVENT
UID:194@tucsontimeline.info
SUMMARY:Desert Drone at Wave Archive
DTSTAMP:20260425T223415Z
DTSTART:20250315T020000Z
DESCRIPTION:Friday\, March 14th\, at Wave Archive\, we welcome Mitchell Kea
	ney to Tucson.\nMitchell is an artist and musician based in Berlin by way 
	of Phoenix. He works\nwith hardware electronics to collage various sound s
	ources into recorded music\nand live performances.\n\nHe'll be joined by B
	eck Rose and Skincage. 7:00PM doors\, $12-$20 donation.
URL:https://tucsontimeline.info/event/desert-drone-at-wave-archive-1
LOCATION:Wave Archive - 197 East Toole Avenue\, Tucson
STATUS:CONFIRMED
CATEGORIES:ambient,desert drone,drone,experimental,music,noise,wave archive
X-ALT-DESC;FMTTYPE=text/html:<p>Friday, March 14th, at Wave Archive, we wel
	come Mitchell Keaney to Tucson. Mitchell is an artist and musician based i
	n Berlin by way of Phoenix. He works with hardware electronics to collage 
	various sound sources into recorded music and live performances.<br><br>He
	'll be joined by Beck Rose and Skincage. 7:00PM doors, $12-$20 donation.</
	p>
END:VEVENT
END:VCALENDAR
