BEGIN:VCALENDAR
VERSION:2.0
CALSCALE:GREGORIAN
PRODID:adamgibbons/ics
METHOD:PUBLISH
X-PUBLISHED-TTL:PT1H
BEGIN:VEVENT
UID:22@tucsontimeline.info
SUMMARY:POG and Friends Poetry reading
DTSTAMP:20260423T135100Z
DTSTART:20240922T020000Z
DESCRIPTION:Annual POG and Friends reading. many poets reading just for 10 
	minutes each.
URL:https://tucsontimeline.info/event/pog-and-friends-poetry-reading
LOCATION:Wave Archive - 197 East Toole Avenue\, Tucson
STATUS:CONFIRMED
CATEGORIES:literature,performance,poetry
X-ALT-DESC;FMTTYPE=text/html:<p>Annual POG and Friends reading. many poets 
	reading just for 10 minutes each.</p>
END:VEVENT
END:VCALENDAR
