BEGIN:VCALENDAR
VERSION:2.0
CALSCALE:GREGORIAN
PRODID:adamgibbons/ics
METHOD:PUBLISH
X-PUBLISHED-TTL:PT1H
BEGIN:VEVENT
UID:474@tucsontimeline.info
SUMMARY:youth open mic with Tucson Rock Camp
DTSTAMP:20260423T050052Z
DTSTART:20260109T233000Z
DTEND:20260110T013000Z
DESCRIPTION:Join us for our monthly youth-focused music open mic! TRC will 
	provide\ninstruments and RG will be slinging delicious bverages and treats
	. ALl ages are\nwelcome\, however youth are given first priority.
URL:https://tucsontimeline.info/event/youth-open-mic-with-tucson-rock-camp-
	14
LOCATION:Revolutionary Grounds Books and Coffee - 4675 E Speedway Blvd
STATUS:CONFIRMED
CATEGORIES:community,karaoke,kids,live performance,music,performance,youth
X-ALT-DESC;FMTTYPE=text/html:<p>Join us for our monthly youth-focused music
	 open mic! TRC will provide instruments and RG will be slinging delicious 
	bverages and treats. ALl ages are welcome, however youth are given first p
	riority.</p>
END:VEVENT
BEGIN:VEVENT
UID:454@tucsontimeline.info
SUMMARY:youth open mic with Tucson Rock Camp
DTSTAMP:20260423T050052Z
DTSTART:20251212T233000Z
DTEND:20251213T013000Z
DESCRIPTION:Join us for our monthly youth-focused music open mic! TRC will 
	provide\ninstruments and RG will be slinging delicious bverages and treats
	. ALl ages are\nwelcome\, however youth are given first priority.
URL:https://tucsontimeline.info/event/youth-open-mic-with-tucson-rock-camp-
	13
LOCATION:Revolutionary Grounds Books and Coffee - 4675 E Speedway Blvd
STATUS:CONFIRMED
CATEGORIES:community,karaoke,kids,live performance,music,performance,youth
X-ALT-DESC;FMTTYPE=text/html:<p>Join us for our monthly youth-focused music
	 open mic! TRC will provide instruments and RG will be slinging delicious 
	bverages and treats. ALl ages are welcome, however youth are given first p
	riority.</p>
END:VEVENT
BEGIN:VEVENT
UID:428@tucsontimeline.info
SUMMARY:youth open mic with Tucson Rock Camp
DTSTAMP:20260423T050052Z
DTSTART:20251114T233000Z
DTEND:20251115T013000Z
DESCRIPTION:Join us for our monthly youth-focused music open mic! TRC will 
	provide\ninstruments and RG will be slinging delicious bverages and treats
	. ALl ages are\nwelcome\, however youth are given first priority.
URL:https://tucsontimeline.info/event/youth-open-mic-with-tucson-rock-camp-
	12
LOCATION:Revolutionary Grounds Books and Coffee - 4675 E Speedway Blvd
STATUS:CONFIRMED
CATEGORIES:community,karaoke,kids,live performance,music,performance,youth
X-ALT-DESC;FMTTYPE=text/html:<p>Join us for our monthly youth-focused music
	 open mic! TRC will provide instruments and RG will be slinging delicious 
	bverages and treats. ALl ages are welcome, however youth are given first p
	riority.</p>
END:VEVENT
BEGIN:VEVENT
UID:397@tucsontimeline.info
SUMMARY:youth open mic with Tucson Rock Camp
DTSTAMP:20260423T050052Z
DTSTART:20251010T233000Z
DTEND:20251011T013000Z
DESCRIPTION:Join us for our monthly youth-focused music open mic! TRC will 
	provide\ninstruments and RG will be slinging delicious bverages and treats
	. ALl ages are\nwelcome\, however youth are given first priority.
URL:https://tucsontimeline.info/event/youth-open-mic-with-tucson-rock-camp-
	11
LOCATION:Revolutionary Grounds Books and Coffee - 4675 E Speedway Blvd
STATUS:CONFIRMED
CATEGORIES:community,karaoke,kids,live performance,music,performance,youth
X-ALT-DESC;FMTTYPE=text/html:<p>Join us for our monthly youth-focused music
	 open mic! TRC will provide instruments and RG will be slinging delicious 
	bverages and treats. ALl ages are welcome, however youth are given first p
	riority.</p>
END:VEVENT
BEGIN:VEVENT
UID:360@tucsontimeline.info
SUMMARY:youth open mic with Tucson Rock Camp
DTSTAMP:20260423T050052Z
DTSTART:20250912T233000Z
DTEND:20250913T013000Z
DESCRIPTION:Join us for our monthly youth-focused music open mic! TRC will 
	provide\ninstruments and RG will be slinging delicious bverages and treats
	. ALl ages are\nwelcome\, however youth are given first priority.
URL:https://tucsontimeline.info/event/youth-open-mic-with-tucson-rock-camp-
	10
LOCATION:Revolutionary Grounds Books and Coffee - 4675 E Speedway Blvd
STATUS:CONFIRMED
CATEGORIES:community,karaoke,kids,live performance,music,performance,youth
X-ALT-DESC;FMTTYPE=text/html:<p>Join us for our monthly youth-focused music
	 open mic! TRC will provide instruments and RG will be slinging delicious 
	bverages and treats. ALl ages are welcome, however youth are given first p
	riority.</p>
END:VEVENT
BEGIN:VEVENT
UID:336@tucsontimeline.info
SUMMARY:youth open mic with Tucson Rock Camp
DTSTAMP:20260423T050052Z
DTSTART:20250808T233000Z
DTEND:20250809T013000Z
DESCRIPTION:Join us for our monthly youth-focused music open mic! TRC will 
	provide\ninstruments and RG will be slinging delicious bverages and treats
	. ALl ages are\nwelcome\, however youth are given first priority.
URL:https://tucsontimeline.info/event/youth-open-mic-with-tucson-rock-camp-
	9
LOCATION:Revolutionary Grounds Books and Coffee - 4675 E Speedway Blvd
STATUS:CONFIRMED
CATEGORIES:community,karaoke,kids,live performance,music,performance,youth
X-ALT-DESC;FMTTYPE=text/html:<p>Join us for our monthly youth-focused music
	 open mic! TRC will provide instruments and RG will be slinging delicious 
	bverages and treats. ALl ages are welcome, however youth are given first p
	riority.</p>
END:VEVENT
BEGIN:VEVENT
UID:274@tucsontimeline.info
SUMMARY:youth open mic with Tucson Rock Camp
DTSTAMP:20260423T050052Z
DTSTART:20250613T233000Z
DTEND:20250614T013000Z
DESCRIPTION:Join us for our monthly youth-focused music open mic! TRC will 
	provide\ninstruments and RG will be slinging delicious bverages and treats
	. ALl ages are\nwelcome\, however youth are given first priority.
URL:https://tucsontimeline.info/event/youth-open-mic-with-tucson-rock-camp-
	7
LOCATION:Revolutionary Grounds Books and Coffee - 4675 E Speedway Blvd
STATUS:CONFIRMED
CATEGORIES:community,karaoke,kids,live performance,music,performance,youth
X-ALT-DESC;FMTTYPE=text/html:<p>Join us for our monthly youth-focused music
	 open mic! TRC will provide instruments and RG will be slinging delicious 
	bverages and treats. ALl ages are welcome, however youth are given first p
	riority.</p>
END:VEVENT
BEGIN:VEVENT
UID:243@tucsontimeline.info
SUMMARY:youth open mic with Tucson Rock Camp
DTSTAMP:20260423T050052Z
DTSTART:20250509T233000Z
DTEND:20250510T013000Z
DESCRIPTION:Join us for our monthly youth-focused music open mic! TRC will 
	provide\ninstruments and RG will be slinging delicious bverages and treats
	. ALL ages are\nwelcome\, however\, youth are given first priority.
URL:https://tucsontimeline.info/event/youth-open-mic-with-tucson-rock-camp-
	6
LOCATION:Revolutionary Grounds Books and Coffee - 4675 E Speedway Blvd
STATUS:CONFIRMED
CATEGORIES:community,karaoke,kids,live performance,music,performance,youth
X-ALT-DESC;FMTTYPE=text/html:<p>Join us for our monthly youth-focused music
	 open mic! TRC will provide instruments and RG will be slinging delicious 
	bverages and treats. ALL ages are welcome, however, youth are given first 
	priority.</p>
END:VEVENT
BEGIN:VEVENT
UID:216@tucsontimeline.info
SUMMARY:youth open mic with Tucson Rock Camp
DTSTAMP:20260423T050052Z
DTSTART:20250411T233000Z
DTEND:20250412T013000Z
DESCRIPTION:Join us for our monthly youth-focused music open mic! TRC will 
	provide\ninstruments and RG will be slinging delicious bverages and treats
	. ALl ages are\nwelcome\, however youth are given first priority.
URL:https://tucsontimeline.info/event/youth-open-mic-with-tucson-rock-camp-
	5
LOCATION:Revolutionary Grounds Books and Coffee - 4675 E Speedway Blvd
STATUS:CONFIRMED
CATEGORIES:community,karaoke,kids,live performance,music,performance,youth
X-ALT-DESC;FMTTYPE=text/html:<p>Join us for our monthly youth-focused music
	 open mic! TRC will provide instruments and RG will be slinging delicious 
	bverages and treats. ALl ages are welcome, however youth are given first p
	riority.</p>
END:VEVENT
BEGIN:VEVENT
UID:178@tucsontimeline.info
SUMMARY:youth open mic with Tucson Rock Camp
DTSTAMP:20260423T050052Z
DTSTART:20250314T233000Z
DTEND:20250315T013000Z
DESCRIPTION:Join us for our monthly youth-focused music open mic! TRC will 
	provide\ninstruments and RG will be slinging delicious bverages and treats
	. ALl ages are\nwelcome\, however youth are given first priority.
URL:https://tucsontimeline.info/event/youth-open-mic-with-tucson-rock-camp-
	4
LOCATION:Revolutionary Grounds Books and Coffee - 4675 E Speedway Blvd
STATUS:CONFIRMED
CATEGORIES:community,karaoke,live performance,music,performance,youth
X-ALT-DESC;FMTTYPE=text/html:<p>Join us for our monthly youth-focused music
	 open mic! TRC will provide instruments and RG will be slinging delicious 
	bverages and treats. ALl ages are welcome, however youth are given first p
	riority.</p>
END:VEVENT
BEGIN:VEVENT
UID:141@tucsontimeline.info
SUMMARY:youth open mic with Tucson Rock Camp
DTSTAMP:20260423T050052Z
DTSTART:20250214T233000Z
DTEND:20250215T013000Z
DESCRIPTION:Join us for our monthly youth-focused music open mic! TRC will 
	provide\ninstruments and RG will be slinging delicious bverages and treats
	. ALl ages are\nwelcome\, however youth are given first priority.
URL:https://tucsontimeline.info/event/youth-open-mic-with-tucson-rock-camp-
	3
LOCATION:Revolutionary Grounds Books and Coffee - 4675 E Speedway Blvd
STATUS:CONFIRMED
CATEGORIES:community,karaoke,live performance,music,performance,youth
X-ALT-DESC;FMTTYPE=text/html:<p>Join us for our monthly youth-focused music
	 open mic! TRC will provide instruments and RG will be slinging delicious 
	bverages and treats. ALl ages are welcome, however youth are given first p
	riority.</p>
END:VEVENT
BEGIN:VEVENT
UID:117@tucsontimeline.info
SUMMARY:youth open mic with Tucson Rock Camp
DTSTAMP:20260423T050052Z
DTSTART:20250110T233000Z
DTEND:20250111T013000Z
DESCRIPTION:Join us for our monthly youth-focused music open mic! TRC will 
	provide\ninstruments and RG will be slinging delicious bverages and treats
	. ALl ages are\nwelcome\, however youth are given first priority.
URL:https://tucsontimeline.info/event/youth-open-mic-with-tucson-rock-camp-
	2
LOCATION:Revolutionary Grounds Books and Coffee - 4675 E Speedway Blvd
STATUS:CONFIRMED
CATEGORIES:community,karaoke,live performance,music,performance,youth
X-ALT-DESC;FMTTYPE=text/html:<p>Join us for our monthly youth-focused music
	 open mic! TRC will provide instruments and RG will be slinging delicious 
	bverages and treats. ALl ages are welcome, however youth are given first p
	riority.</p>
END:VEVENT
BEGIN:VEVENT
UID:109@tucsontimeline.info
SUMMARY:youth open mic with Tucson Rock Camp
DTSTAMP:20260423T050052Z
DTSTART:20241213T233000Z
DTEND:20241214T013000Z
DESCRIPTION:Join us for our monthly youth-focused music open mic! TRC will 
	provide\ninstruments and RG will be slinging delicious bverages and treats
	. ALl ages are\nwelcome\, however youth are given first priority.
URL:https://tucsontimeline.info/event/youth-open-mic-with-tucson-rock-camp-
	1
LOCATION:Revolutionary Grounds Books and Coffee - 4675 E Speedway Blvd
STATUS:CONFIRMED
CATEGORIES:community,karaoke,live performance,music,performance,youth
X-ALT-DESC;FMTTYPE=text/html:<p>Join us for our monthly youth-focused music
	 open mic! TRC will provide instruments and RG will be slinging delicious 
	bverages and treats. ALl ages are welcome, however youth are given first p
	riority.</p>
END:VEVENT
BEGIN:VEVENT
UID:89@tucsontimeline.info
SUMMARY:Transgressions Film: Nightmare on Elm Street 2 Freddy's Revenge + Q
	ueer Karaoke!
DTSTAMP:20260423T050052Z
DTSTART:20241203T020000Z
DESCRIPTION:Celebrating queers\, punks\, and subversions in horror\, sci fi
	\, & arthouse cinema.\nSHOWTIME- 7PM\nQUEER KARAOKE - 9PM\nhttps://www.ins
	tagram.com/transgressions_tucson/\n[https://www.instagram.com/transgressio
	ns_tucson/]
URL:https://tucsontimeline.info/event/transgressions-film-nightmare-on-elm-
	street-2-freddys-revenge-queer-karaoke
LOCATION:The Screening Room - 127 E Congress St\, Tucson\, AZ 85701
STATUS:CONFIRMED
CATEGORIES:community,Film,karaoke,LGBTQ+,music
X-ALT-DESC;FMTTYPE=text/html:<p>Celebrating queers, punks, and subversions 
	in horror, sci fi, &amp; arthouse cinema.<br>SHOWTIME- 7PM<br>QUEER KARAOK
	E - 9PM<br><a target="_blank" href="https://www.instagram.com/transgressio
	ns_tucson/">https://www.instagram.com/transgressions_tucson/</a></p>
END:VEVENT
BEGIN:VEVENT
UID:90@tucsontimeline.info
SUMMARY:Queeraoke: Y2K Edition
DTSTAMP:20260423T050052Z
DTSTART:20241129T023000Z
DTEND:20241129T063000Z
DESCRIPTION:Hate colonizer so called holidays? Us too. Coming to Queeraoke 
	is a much better\nidea. The theme is y2k so start practicing those bops fr
	om the 2000s!!!\n\nHosted by @kidviolet520 [https://www.instagram.com/kidv
	iolet520/]\n\nNovember 28 from 730-1130pm\n\n901 N. 13th Avenue\n\nPark on
	 the street. Enter by the rainbow pole.\n\nFlier by @akasiaart [https://ww
	w.instagram.com/akasiaart/]
URL:https://tucsontimeline.info/event/queeraoke-y2k-edition
LOCATION:Splinter Collective - 901 N 13th Ave\, Tucson\, AZ 85705
STATUS:CONFIRMED
CATEGORIES:karaoke,LGBTQ+,live performance,music
X-ALT-DESC;FMTTYPE=text/html:<p>Hate colonizer so called holidays? Us too. 
	Coming to Queeraoke is a much better idea. The theme is y2k so start pract
	icing those bops from the 2000s!!!</p><p>Hosted by&nbsp;<a target="_blank"
	 href="https://www.instagram.com/kidviolet520/">@kidviolet520</a></p><p>No
	vember 28 from 730-1130pm</p><p>901 N. 13th Avenue</p><p>Park on the stree
	t. Enter by the rainbow pole.</p><p>Flier by&nbsp;<a target="_blank" href=
	"https://www.instagram.com/akasiaart/">@akasiaart</a></p>
END:VEVENT
END:VCALENDAR
