BEGIN:VCALENDAR
VERSION:2.0
CALSCALE:GREGORIAN
PRODID:adamgibbons/ics
METHOD:PUBLISH
X-PUBLISHED-TTL:PT1H
BEGIN:VEVENT
UID:167@tucsontimeline.info
SUMMARY:Mobilizing Against Mass Deportation: Know Your Rights
DTSTAMP:20260423T104834Z
DTSTART:20250208T010000Z
DESCRIPTION:PSL invites you to join us in fighting back against the billion
	aire agenda to\ndemonize immigrants. We will present a brief Know Your Rig
	hts training and\nengage in an empowering community discussion. Together w
	e will fight back\nagainst the attacks on our immigrant family and neighbo
	rs!\n\nPSL te invita a unirte con nosotros en la lucha contra la agenda mu
	ltimillonaria\nque demoniza a los inmigrantes. Presentaremos una breve cap
	acitación de Conozca\nSus Derechos y participaremos en una discusión comun
	itaria para empoderarnos.\n¡Juntos lucharemos contra los ataques a nuestra
	s familias y vecinos inmigrantes\n!\n\n🗓️Friday/Viernes Feb 7\n🕕6:00PM\n📍Gl
	obal Justice Center - 225 E 26th St\, South Tucson
URL:https://tucsontimeline.info/event/mobilizing-against-mass-deportation-k
	now-your-rights
LOCATION:global justice center - 225 E. 26th St. Tucson\, Arizona
STATUS:CONFIRMED
CATEGORIES:activism,good causes,immigration
X-ALT-DESC;FMTTYPE=text/html:<p>PSL invites you to join us in fighting back
	 against the billionaire agenda to demonize immigrants. We will present a 
	brief Know Your Rights training and engage in an empowering community disc
	ussion. Together we will fight back against the attacks on our immigrant f
	amily and neighbors!<br><br>PSL te invita a unirte con nosotros en la luch
	a contra la agenda multimillonaria que demoniza a los inmigrantes. Present
	aremos una breve capacitación de Conozca Sus Derechos y participaremos en 
	una discusión comunitaria para empoderarnos. ¡Juntos lucharemos contra los
	 ataques a nuestras familias y vecinos inmigrantes !<br><br>🗓️Friday/Vierne
	s Feb 7<br>🕕6:00PM<br>📍Global Justice Center - 225 E 26th St, South Tucson
	</p>
END:VEVENT
END:VCALENDAR
