BEGIN:VCALENDAR
VERSION:2.0
CALSCALE:GREGORIAN
PRODID:adamgibbons/ics
METHOD:PUBLISH
X-PUBLISHED-TTL:PT1H
BEGIN:VEVENT
UID:246@tucsontimeline.info
SUMMARY:MURAL UNVEILING/ FUNDRAISER @ BorderLinks
DTSTAMP:20260423T144931Z
DTSTART:20250427T000000Z
DTEND:20250427T020000Z
DESCRIPTION:Join us at BorderLinks on Saturday\, April 26th 2025 from 5-7 P
	M to learn more\nabout the mural that now adorns the south-facing wall in 
	the Borderlinks parking\nlot. Designed by local artists and realized throu
	gh community donations and\nlabor\, this mural represents the connectednes
	s of struggles for liberation in\nPalestine and the borderlands.\n\nPostca
	rd prints of the mural will be available for purchase\, with all proceeds\
	ngoing directly to families in Gaza and Humans To Be\n[https://www.instagr
	am.com/humanstobe]\, a grassroots initiative founded by Laila\nEzzat Al Sh
	ana\, a young woman and mother living in Gaza who creates joyful\nmoments 
	for children with education\, play\, and essentials. More information on\n
	Humans To Be can be found here: https://www.instagram.com/humanstobe\n[htt
	ps://www.instagram.com/humanstobe] \n\nBorderLinks will also be selling pu
	pusas\, made by BorderLinks’ very own\, very\ntalented Wendy! Pupusas will
	 be available for purchase at the event\, but placing\nyour order in advan
	ce helps us to make sure that we have enough to feed\neverybody! Please us
	e the form at the bottom of this webpage to pre-order.\n[https://www.borde
	rlinks.org/events] Proceeds from pupusa sales will support\nBorderLinks. \
	n\nThis event is free and open to the public. \n\n\n\nThe event starts at 
	5pm. Around 5:30pm\, there will be a 30-minute speaking\nportion to hear f
	rom the artists who designed and organized this community\nmural. There wi
	ll also be a discussion led by BorderLinks Co-Director\, Ren\nManning. The
	 rest of the time will be for connecting\, eating\, and mural\nviewing. \n
	\nFor those not able to attend\, please still consider donating to Humans 
	to Be\n[https://www.instagram.com/humanstobe]\, which can be done here:\nh
	ttps://chuffed.org/project/116468-humans-to-be\n[https://chuffed.org/proje
	ct/116468-humans-to-be].\n\nPlease contact Lauren Sutherland (lauren@borde
	rlinks.org) with any questions. \n\nWe hope to see you there!
URL:https://tucsontimeline.info/event/mural-unveiling-fundraiser-borderlink
	s
LOCATION:borderlinks - 620 S Sixth Ave
STATUS:CONFIRMED
CATEGORIES:activism,art,community,fundraiser,mural,mutual aid
X-ALT-DESC;FMTTYPE=text/html:<p></p><p>Join us at BorderLinks on Saturday, 
	April 26th 2025 from 5-7 PM to learn more about the mural that now adorns 
	the south-facing wall in the Borderlinks parking lot. Designed by local ar
	tists and realized through community donations and labor, this mural repre
	sents the connectedness of struggles for liberation in Palestine and the b
	orderlands.</p><p>Postcard prints of the mural will be available for purch
	ase, with all proceeds going directly to families in Gaza and <a target="_
	blank" href="https://www.instagram.com/humanstobe"><u>Humans To Be</u></a>
	, a grassroots initiative founded by Laila Ezzat Al Shana, a young woman a
	nd mother living in Gaza who creates joyful moments for children with educ
	ation, play, and essentials. More information on Humans To Be can be found
	 here: <a target="_blank" href="https://www.instagram.com/humanstobe"><u>h
	ttps://www.instagram.com/humanstobe</u></a>&nbsp;</p><p>BorderLinks will a
	lso be selling pupusas, made by BorderLinks’ very own, very talented Wendy
	! Pupusas will be available for purchase at the event, but placing your or
	der in advance helps us to make sure that we have enough to feed everybody
	! Please use the <a target="_blank" href="https://www.borderlinks.org/even
	ts"><u>form at the bottom of this webpage to pre-order.</u></a> Proceeds f
	rom pupusa sales will support BorderLinks.&nbsp;</p><p>This event is free 
	and open to the public.&nbsp;</p><p></p><p>The event starts at 5pm. Around
	 5:30pm, there will be a 30-minute speaking portion to hear from the artis
	ts who designed and organized this community mural. There will also be a d
	iscussion led by BorderLinks Co-Director, Ren Manning. The rest of the tim
	e will be for connecting, eating, and mural viewing.&nbsp;</p><p>For those
	 not able to attend, please still consider donating to <a target="_blank" 
	href="https://www.instagram.com/humanstobe"><u>Humans to Be</u></a>, which
	 can be done here: <a target="_blank" href="https://chuffed.org/project/11
	6468-humans-to-be"><u>https://chuffed.org/project/116468-humans-to-be</u><
	/a>.</p><p>Please contact Lauren Sutherland (lauren@borderlinks.org) with 
	any questions.&nbsp;</p><p>We hope to see you there!</p>
END:VEVENT
END:VCALENDAR
