BEGIN:VCALENDAR
VERSION:2.0
CALSCALE:GREGORIAN
PRODID:adamgibbons/ics
METHOD:PUBLISH
X-PUBLISHED-TTL:PT1H
BEGIN:VEVENT
UID:156@tucsontimeline.info
SUMMARY:Menú del día: A Flamenco Series
DTSTAMP:20260423T044701Z
DTSTART:20250202T200000Z
DTEND:20250202T230000Z
DESCRIPTION:Menú Del Día - February 2nd 1:30-4pm\n\nThree courses: Paella\,
	 Postre\, and Flamenco by Angelina Ramirez.\n\nFull Menú: $30 Show only: $
	15\n\nSchedule:\n\n1:30pm\n\nPrimero-\n\nPaella Pollo Y Chorizo- Chicken T
	highs & Spanish Chorizo with Asparagus\, Red\nPepper\, Zucchini\, Yellow S
	quash & Peas\n\nOR\n\nPaella de Verduras (V) - Marinated Artichoke Hearts\
	, Heirloom Tomatoes\,\nAsparagus\, Yellow Squash and Cannellini Beans\n\nS
	egundo -\n\nPostre by the Whisk Taker Bake Shop\n\nTercero- DOORS: 2:30pm 
	SHOW: 3:00pm\n\nPeña Flamenca\n\nAngelina Ramirez -baile\n\nMele Martinez 
	- cante\n\nMisael Barraza-Díaz - guitarra\n\nJason Martinez - cajón\n\nTIC
	KETS:\nhttps://www.eventbrite.com/e/menu-del-dia-tickets-1203879478929?aff
	=oddtdtcreator\n[https://www.eventbrite.com/e/menu-del-dia-tickets-1203879
	478929?aff=oddtdtcreator]
URL:https://tucsontimeline.info/event/menu-del-dia-a-flamenco-series
LOCATION:Pidgin Palace - 1110 S 6th Ave\, Tucson\, AZ 85701
STATUS:CONFIRMED
CATEGORIES:bilingual,Espanol,flamenco,food,gallery,live performance,livemus
	ic,performance
X-ALT-DESC;FMTTYPE=text/html:<p><strong>Menú Del Día</strong> - February 2n
	d 1:30-4pm</p><p>Three courses: Paella, Postre, and Flamenco by Angelina R
	amirez.</p><p>Full Menú<strong>: $30 </strong>Show only:<strong> $15</stro
	ng></p><p><strong>Schedule:</strong></p><p>1:30pm</p><p><em>Primero-</em><
	/p><p>Paella Pollo Y Chorizo- Chicken Thighs &amp; Spanish Chorizo with As
	paragus, Red Pepper, Zucchini, Yellow Squash &amp; Peas</p><p>OR</p><p>Pae
	lla de Verduras (V) - Marinated Artichoke Hearts, Heirloom Tomatoes, Aspar
	agus, Yellow Squash and Cannellini Beans</p><p><em>Segundo -</em></p><p>Po
	stre by the Whisk Taker Bake Shop</p><p><em>Tercero</em>- <strong>DOORS: 2
	:30pm SHOW: 3:00pm</strong></p><p>Peña Flamenca</p><p>Angelina Ramirez -ba
	ile</p><p>Mele Martinez - cante</p><p>Misael Barraza-Díaz - guitarra</p><p
	>Jason Martinez - cajón</p><p>TICKETS: <a target="_blank" href="https://ww
	w.eventbrite.com/e/menu-del-dia-tickets-1203879478929?aff=oddtdtcreator">h
	ttps://www.eventbrite.com/e/menu-del-dia-tickets-1203879478929?aff=oddtdtc
	reator</a></p>
END:VEVENT
END:VCALENDAR
