BEGIN:VCALENDAR
VERSION:2.0
CALSCALE:GREGORIAN
PRODID:adamgibbons/ics
METHOD:PUBLISH
X-PUBLISHED-TTL:PT1H
BEGIN:VEVENT
UID:43@tucsontimeline.info
SUMMARY:Traditions in Motion
DTSTAMP:20260425T153219Z
DTSTART:20241004T180000Z
DTEND:20241007T010000Z
DESCRIPTION:Art of Native communities’ skateboards\, bicycles\, motorcycles
	 & cars popup with\nArizona State Museum. This exhibit includes photograph
	s and artwork by\nIndigenous artists focusing on Indigenous lowriders and 
	their cars\, skateboards\,\nmotorcycles\, and bicycles. Eleven dye-cast mo
	del cars painted by Native artists\nwill also be on display. Related activ
	ities with Indigenous car and motorcycle\nclub members\, artists\, and cur
	ators will be offered.
URL:https://tucsontimeline.info/event/traditions-in-motion
LOCATION:JD Valdez Main Library Plaza - 101 N Stone Ave\, Tucson\, AZ 85701
STATUS:CONFIRMED
CATEGORIES:art,festival,skate
X-ALT-DESC;FMTTYPE=text/html:<p> Art of Native communities’ skateboards, bi
	cycles, motorcycles &amp; cars popup with Arizona State Museum. This exhib
	it includes photographs and artwork by Indigenous artists focusing on Indi
	genous lowriders and their cars, skateboards, motorcycles, and bicycles. E
	leven dye-cast model cars painted by Native artists will also be on displa
	y. Related activities with Indigenous car and motorcycle club members, art
	ists, and curators will be offered<strong>.</strong></p>
END:VEVENT
END:VCALENDAR
