BEGIN:VCALENDAR
VERSION:2.0
CALSCALE:GREGORIAN
PRODID:adamgibbons/ics
METHOD:PUBLISH
X-PUBLISHED-TTL:PT1H
BEGIN:VEVENT
UID:131@tucsontimeline.info
SUMMARY:Kid's arts and crafts day
DTSTAMP:20260425T104013Z
DTSTART:20250103T170000Z
DTEND:20250103T200000Z
DESCRIPTION:TUSD winter break is almost over. It can be hard to find fun ac
	tivities for kids\nthat won't break the bank\, and where the adults can al
	so enjoy themselves. For\nthis reason we host an arts and crafts day at le
	ast once during the week-2 week\ntime that schools are closed. We will hav
	e craft supplies available for you and\nyour kids to share\, sidewalk chal
	k\, and maybe some boxes for fort making (that\nlast part is still in the 
	works). This event is targeted at elementary school\naged children and the
	ir families/caregivers\, but all ages are welcome.
URL:https://tucsontimeline.info/event/kids-arts-and-crafts-day
LOCATION:Revolutionary Grounds Books and Coffee - 4675 E Speedway Blvd
STATUS:CONFIRMED
CATEGORIES:art,community,crafting,family,kids
X-ALT-DESC;FMTTYPE=text/html:<p>TUSD winter break is almost over. It can be
	 hard to find fun activities for kids that won't break the bank, and where
	 the adults can also enjoy themselves. For this reason we host an arts and
	 crafts day at least once during the week-2 week time that schools are clo
	sed. We will have craft supplies available for you and your kids to share,
	 sidewalk chalk, and maybe some boxes for fort making (that last part is s
	till in the works). This event is targeted at elementary school aged child
	ren and their families/caregivers, but all ages are welcome. </p>
END:VEVENT
END:VCALENDAR
