BEGIN:VCALENDAR
VERSION:2.0
CALSCALE:GREGORIAN
PRODID:adamgibbons/ics
METHOD:PUBLISH
X-PUBLISHED-TTL:PT1H
BEGIN:VEVENT
UID:355@tucsontimeline.info
SUMMARY:RADIANT RUIN: performance by Logan Phillips & gallery show opening
DTSTAMP:20260426T002139Z
DTSTART:20250817T020000Z
DTEND:20250817T050000Z
DESCRIPTION:Join us for a Tucson summer evening of art + music featuring a 
	performance by\nLogan Phillips (spoken word / video projection / sound scu
	lpture) and music by\nan incredible line up of DJ’s: Humbleianess\, DJQ & 
	Menopause the DJ.\n\n\nSATURDAY\, AUGUST 16TH 2025\n7-10PM\, ALL AGES\, FR
	EE\n\n\n\n\nCOMMUNION ON CONVENT\, 382 S. CONVENT AVENUE\n\n\n\nShow up th
	rough September 20th\, 2025\n\nRADIANT RUIN is the closing ritual for the 
	most recent cycle of NoVoGRAFíAS\n[https://www.dirtyverbs.com/novografias/
	] by Logan Phillips. A gallery show\ncurated by Phillips and Sydney Balles
	teros of COMMUNION\n[https://www.instagram.com/communiononconvent/] featur
	ing a set of 21 metal\nprints\, each in an edition of one\, never to be re
	produced in this format. The\nprints are drawn from Phillips' work in the 
	triptych of the "urban\npsychogeography spellbooks" NoVoGRAFÍAS 02\, 03 & 
	04. Combining elements of\nphotography\, collage\, sigilism and visual poe
	try\, these images come from the\nintersections of dream logic and the quo
	tidian built environment\, exploring\ncycles of capitalist colonialism and
	 concurrent time\, as witnessed from the\nvantage of Phillips' home in dow
	ntown Tucson\, Arizona.\n\nSince 2010 the NoVoGRAFÍAS series has been poet
	 Logan Phillips' vehicle to\nresearch and develop new approaches to writin
	g and performance. Through\ninstallations\, durational performance\, art o
	bjects and print\, Phillips explores\nthe somatic experience of poem arriv
	ing to poet\, hypnogogia and threshold\nconsciousness\, spells and the bui
	lt environment of the aridlands.
URL:https://tucsontimeline.info/event/radiant-ruin-performance-by-logan-phi
	llips-and-gallery-show-opening
LOCATION:Communion on Convent - 382 S. Convent Ave.\, Tucson\, AZ 85701
STATUS:CONFIRMED
CATEGORIES:dj,drone,gallery,gallery opening,poetry,sound art,video,video pr
	ojection
X-ALT-DESC;FMTTYPE=text/html:<p>Join us for a Tucson summer evening of art 
	+ music featuring a <strong>performance by Logan Phillips</strong> (spoken
	 word / video projection / sound sculpture) and music by an incredible lin
	e up of DJ’s: <strong>Humbleianess, DJQ &amp; Menopause the DJ</strong>.</
	p><h2>Saturday, August 16th 2025<br>7-10pm, all ages, FREE</h2><p></p><h2>
	Communion on Convent, 382 S. Convent Avenue</h2><p></p><p><strong>Show up 
	through September 20th, 2025</strong></p><p>RADIANT RUIN is the closing ri
	tual for the most recent cycle of <a target="_blank" href="https://www.dir
	tyverbs.com/novografias/">NoVoGRAFíAS</a> by Logan Phillips. A gallery sho
	w curated by Phillips and Sydney Ballesteros of <a target="_blank" href="h
	ttps://www.instagram.com/communiononconvent/">COMMUNION</a> featuring <str
	ong>a set of 21 metal prints, each in an edition of one, never to be repro
	duced in this format.</strong> The prints are drawn from Phillips' work in
	 the triptych of the "urban psychogeography spellbooks" NoVoGRAFÍAS 02, 03
	 &amp; 04. Combining elements of photography, collage, sigilism and visual
	 poetry, these images come from the intersections of dream logic and the q
	uotidian built environment, exploring cycles of capitalist colonialism and
	 concurrent time, as witnessed from the vantage of Phillips' home in downt
	own Tucson, Arizona.</p><p>Since 2010 the NoVoGRAFÍAS series has been poet
	 Logan Phillips' vehicle to research and develop new approaches to writing
	 and performance. Through installations, durational performance, art objec
	ts and print, Phillips explores the somatic experience of poem arriving to
	 poet, hypnogogia and threshold consciousness, spells and the built enviro
	nment of the aridlands.</p>
END:VEVENT
BEGIN:VEVENT
UID:316@tucsontimeline.info
SUMMARY:Summer Solstice at Wave Archive
DTSTAMP:20260426T002139Z
DTSTART:20250621T050000Z
DTEND:20250621T083000Z
DESCRIPTION:Desert Drone presents a very special late night summer solstice
	 show at Wave\nArchive on June 20th. 10pm doors\, music from 10:30pm - lat
	e! $12-$20 notaflof\n\nFeaturing Hal Lambert & Mitchell Mobley on tour\, w
	ith locals Hannah Joyce\,\nPineross\, Whorls\, and Seth Kasselman from Pho
	enix.
URL:https://tucsontimeline.info/event/summer-solstice-at-wave-archive
LOCATION:Wave Archive - 197 East Toole Avenue\, Tucson
STATUS:CONFIRMED
CATEGORIES:desert drone,drone,experimental,music
X-ALT-DESC;FMTTYPE=text/html:<p>Desert Drone presents a very special late n
	ight summer solstice show at Wave Archive on June 20th. 10pm doors, music 
	from 10:30pm - late! $12-$20 notaflof<br><br>Featuring Hal Lambert &amp; M
	itchell Mobley on tour, with locals Hannah Joyce, Pineross, Whorls, and Se
	th Kasselman from Phoenix.</p>
END:VEVENT
BEGIN:VEVENT
UID:266@tucsontimeline.info
SUMMARY:Desert Drone at Pidgin Palace
DTSTAMP:20260426T002139Z
DTSTART:20250520T023000Z
DESCRIPTION:Monday\, May 19th\, at Pidgin Palace! We welcome Jessica Pavone
	 and Amy Cimini to\nTucson alongside Miguel Urbina and Pineross.\n\nViolis
	t and composer\, Jessica Pavone explores the tactile and sensory experienc
	e\nof music as a vibration-based medium. Inspired by processes centered on
	\nintuition and instinct\, her music channels these ideas by focusing on h
	ow music\nfeels when played and heard\, integrating her experiences as an 
	instrumentalist\ninto works that transcend time.\n\nAmy Cimini is a violis
	t\, teacher\, and music writer who embraces\nanti-authoritarian approaches
	 to power\, community\, and technology in 20th & 21st\ncentury experimenta
	l music\, sound art\, and auditory culture. From noise band\nNecking to th
	e duo Architeuthis Walks on Land with bassoonist Katherine Young\,\nshe ha
	s honed an expressive\, chaotic\, and high-energy improvisatory relationsh
	ip\nwith the amplified viola.
URL:https://tucsontimeline.info/event/desert-drone-at-pidgin-palace-1
LOCATION:Pidgin Palace - 1110 S 6th Ave\, Tucson\, AZ 85701
STATUS:CONFIRMED
CATEGORIES:ambient,desertdrone,drone,experimental
X-ALT-DESC;FMTTYPE=text/html:<p>Monday, May 19th, at Pidgin Palace! We welc
	ome Jessica Pavone and Amy Cimini to Tucson alongside Miguel Urbina and Pi
	neross.<br><br>Violist and composer, Jessica Pavone explores the tactile a
	nd sensory experience of music as a vibration-based medium. Inspired by pr
	ocesses centered on intuition and instinct, her music channels these ideas
	 by focusing on how music feels when played and heard, integrating her exp
	eriences as an instrumentalist into works that transcend time.<br><br>Amy 
	Cimini is a violist, teacher, and music writer who embraces anti-authorita
	rian approaches to power, community, and technology in 20th &amp; 21st cen
	tury experimental music, sound art, and auditory culture. From noise band 
	Necking to the duo Architeuthis Walks on Land with bassoonist Katherine Yo
	ung, she has honed an expressive, chaotic, and high-energy improvisatory r
	elationship with the amplified viola.</p>
END:VEVENT
BEGIN:VEVENT
UID:221@tucsontimeline.info
SUMMARY:Desert Drone at Wave Archive
DTSTAMP:20260426T002139Z
DTSTART:20250407T020000Z
DESCRIPTION:Sunday\, April 6th\, at Wave Archive\, we welcome Matthew Ryals
	.\n\nMatthew Ryals (he/him) is an award-winning synthesist and composer-im
	proviser\nbased in New York. Working primarily with modular synthesizer\, 
	his music\nexplores improvisation\, generative composition\, cybernetics\,
	 and experiments in\narchiving. He has released music on Oxtail Recordings
	\, sound as language\, SØVN\,\n3OP\, and more.\n\nMatthew will be joined b
	y locals mess.a.lina and Christopher Alagna.
URL:https://tucsontimeline.info/event/desert-drone-at-wave-archive-2
LOCATION:Wave Archive - 197 East Toole Avenue\, Tucson
STATUS:CONFIRMED
CATEGORIES:desert drone,desertdrone,drone,experimental,wave archive
X-ALT-DESC;FMTTYPE=text/html:<p>Sunday, April 6th, at Wave Archive, we welc
	ome Matthew Ryals.<br><br>Matthew Ryals (he/him) is an award-winning synth
	esist and composer-improviser based in New York. Working primarily with mo
	dular synthesizer, his music explores improvisation, generative compositio
	n, cybernetics, and experiments in archiving. He has released music on Oxt
	ail Recordings, sound as language, SØVN, 3OP, and more.<br><br>Matthew wil
	l be joined by locals mess.a.lina and Christopher Alagna.</p>
END:VEVENT
BEGIN:VEVENT
UID:219@tucsontimeline.info
SUMMARY:Sine & Symbol at Wave Archive
DTSTAMP:20260426T002139Z
DTSTART:20250331T010000Z
DESCRIPTION:Night 4 of Sine & Symbol at Wave Archive\, featuring performanc
	es from Andrew\nWeathers & Chelsey Lee Trejo\, Angel Lin\, Bolt of Void\, 
	Carmina Escobar\, Karima\nWalker\, Kory Reeder\, and Poetry:The First Nois
	e Music.
URL:https://tucsontimeline.info/event/sine-and-symbol-at-wave-archive
LOCATION:Wave Archive - 197 East Toole Avenue\, Tucson
STATUS:CONFIRMED
CATEGORIES:desert drone,desertdrone,drone,experimental,music,sineandsymbol
X-ALT-DESC;FMTTYPE=text/html:<p>Night 4 of Sine &amp; Symbol at Wave Archiv
	e, featuring performances from Andrew Weathers &amp; Chelsey Lee Trejo,  A
	ngel Lin, Bolt of Void, Carmina Escobar, Karima Walker, Kory Reeder, and P
	oetry:The First Noise Music. </p>
END:VEVENT
BEGIN:VEVENT
UID:218@tucsontimeline.info
SUMMARY:Sine & Symbol at MOCA Tucson
DTSTAMP:20260426T002139Z
DTSTART:20250330T010000Z
DTEND:20250330T060000Z
DESCRIPTION:Night 3 of Sine & Symbol at MOCA Tucson\, featuring performance
	s from Anna Brody\,\nBeau Devereaux\, Camila de Andrade Bianchi\, Lauren S
	arah Hayes with visuals by\nMarizo Siller\, MaiuuwaK with movement by Eryk
	da Dellenbach\, Sofia Matus Cancino\,\nBlue Dust Archive and Jesse Kees\, 
	Emily Xander\, and Vivi Pride live scoring\nfilms by Gabriella Molina and 
	more.
URL:https://tucsontimeline.info/event/sine-and-symbol-at-moca-tucson
GEO:32.2179;-110.972
LOCATION:MOCA-Tucson - 265 South Church Avenue Tucson
STATUS:CONFIRMED
CATEGORIES:desert drone,desertdrone,drone,experimental,music,sineandsymbol
X-ALT-DESC;FMTTYPE=text/html:<p>Night 3 of Sine &amp; Symbol at MOCA Tucson
	, featuring performances from Anna Brody, Beau Devereaux, Camila de Andrad
	e Bianchi, Lauren Sarah Hayes with visuals by Marizo Siller, MaiuuwaK with
	 movement by Erykda Dellenbach, Sofia Matus Cancino, Blue Dust Archive and
	 Jesse Kees, Emily Xander, and Vivi Pride live scoring films by Gabriella 
	Molina and more.</p>
END:VEVENT
BEGIN:VEVENT
UID:217@tucsontimeline.info
SUMMARY:Sine & Symbol at Pidgin Palace
DTSTAMP:20260426T002139Z
DTSTART:20250329T003000Z
DTEND:20250329T060000Z
DESCRIPTION:Ambent\, Jean Howard\, and the Listening Choir perform alongsid
	e improvised\nensemble intermedia performances and audio visual presentati
	ons all night long\nat Pidgin Palace as part of day 2 of Sine & Symbol.
URL:https://tucsontimeline.info/event/sine-and-symbol-at-pidgin-palace
LOCATION:Pidgin Palace - 1110 S 6th Ave\, Tucson\, AZ 85701
STATUS:CONFIRMED
CATEGORIES:desertdrone,drone,experimental,sine&symbol
X-ALT-DESC;FMTTYPE=text/html:<p>Ambent, Jean Howard, and the Listening Choi
	r perform alongside improvised ensemble intermedia performances and audio 
	visual presentations all night long at Pidgin Palace as part of day 2 of S
	ine &amp; Symbol.</p>
END:VEVENT
BEGIN:VEVENT
UID:212@tucsontimeline.info
SUMMARY:Abronia at Slow Body - Sine & Symbol
DTSTAMP:20260426T002139Z
DTSTART:20250328T020000Z
DTEND:20250328T050000Z
DESCRIPTION:Abronia\, Grant Beyschau\, and Miguel Urbina kick off night 1 o
	f Sine & Symbol\nwith a free show at Slow Body Beer. This event is an arti
	st mixer too! Come meet\nand chat with some of the Sine & Symbol musicians
	 and artists!\n\nAdditional donations from the night will go directly to s
	upporting the musicians\nand artists. Visuals from Linus of FaceMe Portrai
	ts and movement from Lindee\nZimmer.
URL:https://tucsontimeline.info/event/abronia-at-slow-body-sine-and-symbol
LOCATION:Slow Body Beer - 831 E 17th St\, Tucson\, Arizona
STATUS:CONFIRMED
CATEGORIES:ambient,desertdrone,drone,experimental,sine&symbol
X-ALT-DESC;FMTTYPE=text/html:<p>Abronia, Grant Beyschau, and Miguel Urbina 
	kick off night 1 of Sine &amp; Symbol with a free show at Slow Body Beer. 
	This event is an artist mixer too! Come meet and chat with some of the Sin
	e &amp; Symbol musicians and artists!<br><br>Additional donations from the
	 night will go directly to supporting the musicians and artists. Visuals f
	rom Linus of FaceMe Portraits and movement from Lindee Zimmer.</p>
END:VEVENT
BEGIN:VEVENT
UID:201@tucsontimeline.info
SUMMARY:Desert Drone at Slow Body
DTSTAMP:20260426T002139Z
DTSTART:20250321T020000Z
DESCRIPTION:Thursday\, March 20th\, at Slow Body\, we welcome Mind Mirage a
	nd 55CASTLES. Mind\nMirage from Oakland\, CA\, the solo electronic creatio
	n of producer/musician Ana\nCuevas\, joined on tour by 55CASTLES\, the dar
	kwave duo from Oakland. They'll be\nsupported by locals Ren and Dollblood.
	\n\nThis is a free show with donations encouraged to support the locals. M
	usic will\nstart at 7:00pm sharp.
URL:https://tucsontimeline.info/event/desert-drone-at-slow-body-1
LOCATION:Slow Body Beer - 831 E 17th St\, Tucson\, Arizona
STATUS:CONFIRMED
CATEGORIES:ambient,desert drone,drone,music,tucson
X-ALT-DESC;FMTTYPE=text/html:<p>Thursday, March 20th, at Slow Body, we welc
	ome Mind Mirage and 55CASTLES. Mind Mirage from Oakland, CA, the solo elec
	tronic creation of producer/musician Ana Cuevas, joined on tour by 55CASTL
	ES, the darkwave duo from Oakland. They'll be supported by locals Ren and 
	Dollblood.<br><br>This is a free show with donations encouraged to support
	 the locals. Music will start at 7:00pm sharp.</p>
END:VEVENT
BEGIN:VEVENT
UID:194@tucsontimeline.info
SUMMARY:Desert Drone at Wave Archive
DTSTAMP:20260426T002139Z
DTSTART:20250315T020000Z
DESCRIPTION:Friday\, March 14th\, at Wave Archive\, we welcome Mitchell Kea
	ney to Tucson.\nMitchell is an artist and musician based in Berlin by way 
	of Phoenix. He works\nwith hardware electronics to collage various sound s
	ources into recorded music\nand live performances.\n\nHe'll be joined by B
	eck Rose and Skincage. 7:00PM doors\, $12-$20 donation.
URL:https://tucsontimeline.info/event/desert-drone-at-wave-archive-1
LOCATION:Wave Archive - 197 East Toole Avenue\, Tucson
STATUS:CONFIRMED
CATEGORIES:ambient,desert drone,drone,experimental,music,noise,wave archive
X-ALT-DESC;FMTTYPE=text/html:<p>Friday, March 14th, at Wave Archive, we wel
	come Mitchell Keaney to Tucson. Mitchell is an artist and musician based i
	n Berlin by way of Phoenix. He works with hardware electronics to collage 
	various sound sources into recorded music and live performances.<br><br>He
	'll be joined by Beck Rose and Skincage. 7:00PM doors, $12-$20 donation.</
	p>
END:VEVENT
BEGIN:VEVENT
UID:166@tucsontimeline.info
SUMMARY:Desert Drone at Pidgin Palace
DTSTAMP:20260426T002139Z
DTSTART:20250222T023000Z
DESCRIPTION:The first Desert Drone at Pidgin Palace Arts on February 21st! 
	We've put\ntogether an all Arizona lineup featuring Compersion\, Gabby Isa
	ac\, Julio Lopez\,\nand Briartronics.\n\nFriday\, February 21st\, at Pidgi
	n Palace Arts. Doors 7:30pm Music 8:00pm 21+ $12\nat the door.
URL:https://tucsontimeline.info/event/desert-drone-at-pidgin-palace
LOCATION:Pidgin Palace - 1110 S 6th Ave\, Tucson\, AZ 85701
STATUS:CONFIRMED
CATEGORIES:ambient,desert drone,drone,experimental,live music,music
X-ALT-DESC;FMTTYPE=text/html:<p>The first Desert Drone at Pidgin Palace Art
	s on February 21st! We've put together an all Arizona lineup featuring Com
	persion, Gabby Isaac, Julio Lopez, and Briartronics.</p><p>Friday, Februar
	y 21st, at Pidgin Palace Arts. Doors 7:30pm Music 8:00pm 21+ $12 at the do
	or.</p>
END:VEVENT
BEGIN:VEVENT
UID:130@tucsontimeline.info
SUMMARY:Desert Drone at Wave Archive
DTSTAMP:20260426T002139Z
DTSTART:20250115T020000Z
DTEND:20250115T050000Z
DESCRIPTION:Tuesday\, January 14th\, we welcome LA based musician Kelby Cla
	rk\, he'll be joined\nby Vulture Vault and Steev Hise.\n\nKelby Clark (K.L
	. Clark) is a composer\, improviser\, and banjo player from\nGeorgia. He i
	s inspired by the old-time music of his home state as well as\ndrone\, fre
	e improvisation\, ragas and many other forms of music from around the\nwor
	ld. Clark has released work on labels such as Vaagner\, Working Man Lay Do
	wn\,\nGarden Portal\, Tentative Power\, Amulet of Tears\, Eastern Nurserie
	s and Audio.
URL:https://tucsontimeline.info/event/desert-drone-at-wave-archive
LOCATION:Wave Archive - 197 East Toole Avenue\, Tucson
STATUS:CONFIRMED
CATEGORIES:ambient,desert drone,drone,live performance,music
X-ALT-DESC;FMTTYPE=text/html:<p>Tuesday, January 14th, we welcome LA based 
	musician Kelby Clark, he'll be joined by Vulture Vault and Steev Hise.<br>
	<br>Kelby Clark (K.L. Clark) is a composer, improviser, and banjo player f
	rom Georgia. He is inspired by the old-time music of his home state as wel
	l as drone, free improvisation, ragas and many other forms of music from a
	round the world. Clark has released work on labels such as Vaagner, Workin
	g Man Lay Down, Garden Portal, Tentative Power, Amulet of Tears, Eastern N
	urseries and Audio.</p>
END:VEVENT
BEGIN:VEVENT
UID:91@tucsontimeline.info
SUMMARY:Chuck Johnson at The Screening Room
DTSTAMP:20260426T002139Z
DTSTART:20241211T023000Z
DTEND:20241211T053000Z
DESCRIPTION:Tuesday\, December 10th\, at The Screening Room\, we welcome Ch
	uck Johnson from the\nBay Area\, alongside some amazing Tucson support\, S
	uper Ethereal Champion World\,\nBeau Devereaux\, and Ryan Alfred.\n\nDoors
	 7:30 pm\, music at 8:00\, $12\, all ages.\n\nAccording to Pitchfork\, Chu
	ck's latest album Sun Glories "steers into triumphant\npost-rock territory
	 on his most surprising and exploratory album yet."
URL:https://tucsontimeline.info/event/chuck-johnson-at-the-screening-room
LOCATION:The Screening Room - 127 E Congress St\, Tucson\, AZ 85701
STATUS:CONFIRMED
CATEGORIES:ambient,desertdrone,drone,music
X-ALT-DESC;FMTTYPE=text/html:<p>Tuesday, December 10th, at The Screening Ro
	om, we welcome Chuck Johnson from the Bay Area, alongside some amazing Tuc
	son support, Super Ethereal Champion World, Beau Devereaux, and Ryan Alfre
	d.<br><br>Doors 7:30 pm, music at 8:00, $12, all ages.<br><br>According to
	 Pitchfork, Chuck's latest album Sun Glories "steers into triumphant post-
	rock territory on his most surprising and exploratory album yet."</p>
END:VEVENT
BEGIN:VEVENT
UID:65@tucsontimeline.info
SUMMARY:Desert Drone at Slow Body
DTSTAMP:20260426T002139Z
DTSTART:20241201T030000Z
DTEND:20241201T050000Z
DESCRIPTION:Johnny Bell will be on tour from Santa Fe in support of his lat
	est project\,\nField Trips (Aural Canyon). We have support from Miguel Urb
	ina and Chelsey Lee\nTrejo alongside Zack Hansen.\n\nThis is a free event 
	starting at 8:00 pm\, and we're encouraging $5-10 donations\nto support th
	e musicians.
URL:https://tucsontimeline.info/event/desert-drone-at-slow-body
LOCATION:Slow Body Beer - 831 E 17th St\, Tucson\, Arizona
STATUS:CONFIRMED
CATEGORIES:ambient,desertdrone,drone,experimental,music
X-ALT-DESC;FMTTYPE=text/html:<p>Johnny Bell will be on tour from Santa Fe i
	n support of his latest project, Field Trips (Aural Canyon). We have suppo
	rt from Miguel Urbina and Chelsey Lee Trejo alongside Zack Hansen.<br><br>
	This is a free event starting at 8:00 pm, and we're encouraging $5-10 dona
	tions to support the musicians.</p>
END:VEVENT
BEGIN:VEVENT
UID:64@tucsontimeline.info
SUMMARY:Desert Drone at The Screening Room
DTSTAMP:20260426T002139Z
DTSTART:20241116T023000Z
DTEND:20241116T053000Z
DESCRIPTION:Cruel Diagonals at The Screening Room Friday\, November 15th\, 
	with support from\nRyan Chavira\, Deep Stay\, and Alluvium.\n\nDoors 7:30p
	m Music 8:00pm $15 all ages.
URL:https://tucsontimeline.info/event/desert-drone-at-the-screening-room
LOCATION:The Screening Room - 127 E Congress St\, Tucson\, AZ 85701
STATUS:CONFIRMED
CATEGORIES:ambient,desertdrone,drone,experimental,music
X-ALT-DESC;FMTTYPE=text/html:<p> Cruel Diagonals at The Screening Room Frid
	ay, November 15th, with support from Ryan Chavira, Deep Stay, and Alluvium
	.<br><br>Doors 7:30pm Music 8:00pm $15 all ages.</p>
END:VEVENT
END:VCALENDAR
