BEGIN:VCALENDAR
VERSION:2.0
CALSCALE:GREGORIAN
PRODID:adamgibbons/ics
METHOD:PUBLISH
X-PUBLISHED-TTL:PT1H
BEGIN:VEVENT
UID:398@tucsontimeline.info
SUMMARY:CUMBIAS ON CONVENT with DJ Dirtyverbs: dance party & video projecti
	on
DTSTAMP:20260420T084933Z
DTSTART:20250921T020000Z
DTEND:20250921T050000Z
DESCRIPTION:CUMBIAS ON CONVENT\n\n\n\nDJ DIRTYVERBS\n\n\n\nSATURDAY SEPTEMB
	ER 20\n\n\nThe closing party for the gallery show RADIANT RUIN by Logan Ph
	illips. Last\nchance to see the show & aquire prints.\n\nParty is pay-what
	-you-can for entry\, NOTALOF. All ages.\n\nCommunion on Convent [https://w
	ww.instagram.com/communiononconvent/]\n382 S. Convent Avenue\nTucson\, Ari
	zona\n\nRADIANT RUIN is the closing ritual for the most recent cycle of No
	VoGRAFíAS\n[https://www.dirtyverbs.com/novografias] by Logan Phillips. A g
	allery show\ncurated by Phillips and Sydney Ballesteros of COMMUNION featu
	ring a set of metal\nprints\, each in an edition of one\, never to be repr
	oduced in this format. The\nprints are drawn from Phillips’ work in the tr
	iptych of the “urban\npsychogeography spellbooks” NoVoGRAFÍAS 02\, 03 & 04
	. Combining elements of\nphotography\, collage\, sigilism and visual poetr
	y\, these images come from the\nintersections of dream logic and the quoti
	dian built environment\, exploring\ncycles of capitalist colonialism and c
	oncurrent time\, as witnessed from the\nvantage of Phillips’ home in downt
	own Tucson\, Arizona.
URL:https://tucsontimeline.info/event/cumbias-on-convent-w-dj-dirtyverbs-da
	ncing-and-video-projection
LOCATION:Communion on Convent - 382 S. Convent Ave.\, Tucson\, AZ 85701
STATUS:CONFIRMED
CATEGORIES:dance,danceparty,dj
X-ALT-DESC;FMTTYPE=text/html:<h1>CUMBIAS ON CONVENT</h1><h1><br>DJ DIRTYVER
	BS</h1><h3><br>SATURDAY SEPTEMBER 20<br></h3><p>The closing party for the 
	gallery show RADIANT RUIN by Logan Phillips. Last chance to see the show &
	amp; aquire prints.</p><p>Party is pay-what-you-can for entry, NOTALOF. Al
	l ages.</p><p><a href="https://www.instagram.com/communiononconvent/" targ
	et="_blank"><strong>Communion on Convent</strong></a><br>382 S. Convent Av
	enue<br>Tucson, Arizona</p><p>RADIANT RUIN is the closing ritual for the m
	ost recent cycle of <a href="https://www.dirtyverbs.com/novografias" targe
	t="_blank">NoVoGRAFíAS</a> by Logan Phillips. A gallery show curated by Ph
	illips and Sydney Ballesteros of COMMUNION featuring a set of metal prints
	, each in an edition of one, never to be reproduced in this format. The pr
	ints are drawn from Phillips’ work in the triptych of the “urban psychogeo
	graphy spellbooks” NoVoGRAFÍAS 02, 03 &amp; 04. Combining elements of phot
	ography, collage, sigilism and visual poetry, these images come from the i
	ntersections of dream logic and the quotidian built environment, exploring
	 cycles of capitalist colonialism and concurrent time, as witnessed from t
	he vantage of Phillips’ home in downtown Tucson, Arizona.</p>
END:VEVENT
BEGIN:VEVENT
UID:288@tucsontimeline.info
SUMMARY:RIZZMAEL GOTH DJ SET
DTSTAMP:20260420T084934Z
DTSTART:20250525T050000Z
DTEND:20250525T070000Z
DESCRIPTION:RIZZMAEL @ Pidgin Palace\n\nDarkwave | Goth | Industrial\n\nPLU
	S Late nite Happy Hour $3 shots with beer $10 cocktails\n\n$3-5 cover supp
	orts our DJ
URL:https://tucsontimeline.info/event/rizzmael-goth-dj-set
LOCATION:Pidgin Palace - 1110 S 6th Ave\, Tucson\, AZ 85701
STATUS:CONFIRMED
CATEGORIES:dance,danceparty,dj,goth,music
X-ALT-DESC;FMTTYPE=text/html:<p>RIZZMAEL @ Pidgin Palace</p><p>Darkwave | G
	oth | Industrial </p><p>PLUS Late nite Happy Hour $3 shots with beer $10 c
	ocktails </p><p>$3-5 cover supports our DJ </p>
END:VEVENT
BEGIN:VEVENT
UID:182@tucsontimeline.info
SUMMARY:ELUSIVA WITH PONDI MAP AND MASSI
DTSTAMP:20260420T084934Z
DTSTART:20250302T050000Z
DTEND:20250302T083000Z
DESCRIPTION:Elusiva is back on the Palace floor with Pondi Map and Massi. D
	ance your asses\noff!\n\n$5-10 sliding scale door.
URL:https://tucsontimeline.info/event/elusiva-with-pondi-map-and-massi
LOCATION:Pidgin Palace - 1110 S 6th Ave\, Tucson\, AZ 85701
STATUS:CONFIRMED
CATEGORIES:bar,dance,danceparty,dj,elusiva,music,Party,pidginpalace
X-ALT-DESC;FMTTYPE=text/html:<p>Elusiva is back on the Palace floor with Po
	ndi Map and Massi. Dance your asses off! </p><p>$5-10 sliding scale door. 
	</p>
END:VEVENT
BEGIN:VEVENT
UID:155@tucsontimeline.info
SUMMARY:Friday Nite MixUp
DTSTAMP:20260420T084934Z
DTSTART:20250201T040000Z
DESCRIPTION:Join us for a night of dancing with Carl Hanni: Disk Jockey.\n\
	nWe'll have all genres ready for you to groove to. Whether you want a chil
	l night\nsipping cocktails by the fire or want to bounce around with frien
	ds\, we will be\nhere serving up in Pidgin Palace: Tucson's favorite Art B
	ar and wooden\ndancefloor.
URL:https://tucsontimeline.info/event/friday-nite-mixup
LOCATION:Pidgin Palace - 1110 S 6th Ave\, Tucson\, AZ 85701
STATUS:CONFIRMED
CATEGORIES:dance,danceparty,dancing,diskjockey,dj
X-ALT-DESC;FMTTYPE=text/html:<p>Join us for a night of dancing with Carl Ha
	nni: Disk Jockey. </p><p>We'll have all genres ready for you to groove to.
	 Whether you want a chill night sipping cocktails by the fire or want to b
	ounce around with friends, we will be here serving up in Pidgin Palace: Tu
	cson's favorite Art Bar and wooden dancefloor. </p>
END:VEVENT
BEGIN:VEVENT
UID:143@tucsontimeline.info
SUMMARY:Afrizona: Come Dance With Us
DTSTAMP:20260420T084934Z
DTSTART:20250201T030000Z
DTEND:20250201T060000Z
DESCRIPTION:Menopause The DJ. Music from the continent of Africa and the di
	aspora. Guest\nDJs: Dirtyverbs & DJQ Entry is sliding scale $5-$20. Food a
	nd drink from La\nIndita avaiable for purchase
URL:https://tucsontimeline.info/event/afrizona-come-dance-with-us
LOCATION:La Indita - 722 N Stone Ave.\, Tucson\, AZ
STATUS:CONFIRMED
CATEGORIES:african music,danceparty,dj
X-ALT-DESC;FMTTYPE=text/html:<p>Menopause The DJ. Music from the continent 
	of Africa and the diaspora. Guest DJs: Dirtyverbs &amp; DJQ Entry is slidi
	ng scale $5-$20. Food and drink from La Indita avaiable for purchase</p>
END:VEVENT
END:VCALENDAR
