BEGIN:VCALENDAR
VERSION:2.0
CALSCALE:GREGORIAN
PRODID:adamgibbons/ics
METHOD:PUBLISH
X-PUBLISHED-TTL:PT1H
BEGIN:VEVENT
UID:521@tucsontimeline.info
SUMMARY:Last Saturdays at Catalyst featuring Dancesequences
DTSTAMP:20260423T030315Z
DTSTART:20260228T180000Z
DTEND:20260228T230000Z
DESCRIPTION:Last Saturdays at Catalyst is happening on Saturday\, February 
	28 from 11am–4pm\nin the Tucson Mall with a free\, all-ages\, all-abilitie
	s community day built\naround creativity\, connection\, and showing up for
	 each other.\n\nDrop in for hands-on art activations\, community performan
	ces\, refreshments\, and\nan open house vibe where you can explore the spa
	ce and meet the Catalyst\ncreatives. Stay awhile or pop in—there’s no wron
	g way to be here.\n\nThis February we are thrilled to welcome Dancesequenc
	es for a photography\ngallery exhibition for Bodies in Motion and a specia
	l performance of Ripples of\nSilence at 2:30pmwith a Q&A afterwards.\n\nOt
	her Highlights include:\n\nGully Bakehouse - Indian Culinary Demo\n\nTucso
	n Toolbox Free Community Tool Library\n\nAll Frills! photo station\n\nBrav
	issimo Art Center - Art Activities\n\nGlobal Makers Mini-Market\n\nCome ma
	ke something\, share something\, or just hang out!
URL:https://tucsontimeline.info/event/last-saturdays-at-catalyst-featuring-
	dancesequences
LOCATION:CATALYST Creative Collective - 4500 N Oracle Rd Suite 110\, Tucson
	\, AZ 85705
STATUS:CONFIRMED
CATEGORIES:art,culinary,dance,live performance,performance
X-ALT-DESC;FMTTYPE=text/html:<p>Last Saturdays at Catalyst is happening on 
	Saturday, February 28 from 11am–4pm in the Tucson Mall with a free, all-ag
	es, all-abilities community day built around creativity, connection, and s
	howing up for each other.</p><p>Drop in for hands-on art activations, comm
	unity performances, refreshments, and an open house vibe where you can exp
	lore the space and meet the Catalyst creatives. Stay awhile or pop in—ther
	e’s no wrong way to be here.</p><p>This February we are thrilled to welcom
	e Dancesequences for a photography gallery exhibition for Bodies in Motion
	 and a special performance of Ripples of Silence at 2:30pmwith a Q&amp;A a
	fterwards.</p><p>Other Highlights include:</p><p>Gully Bakehouse - Indian 
	Culinary Demo</p><p>Tucson Toolbox Free Community Tool Library</p><p>All F
	rills! photo station</p><p>Bravissimo Art Center - Art Activities</p><p>Gl
	obal Makers Mini-Market</p><p>Come make something, share something, or jus
	t hang out!</p>
END:VEVENT
END:VCALENDAR
