BEGIN:VCALENDAR
VERSION:2.0
CALSCALE:GREGORIAN
PRODID:adamgibbons/ics
METHOD:PUBLISH
X-PUBLISHED-TTL:PT1H
BEGIN:VEVENT
UID:40@tucsontimeline.info
SUMMARY:Duality Along The US/Mex Border
DTSTAMP:20260425T172831Z
DTSTART:20241004T193000Z
DTEND:20241004T210000Z
DESCRIPTION:Charlas con Café with artist Alejandro Macias
URL:https://tucsontimeline.info/event/duality-along-the-usmex-border
LOCATION:Center for Latin American Studies - UA Marshall Bldg Rm 280\, 845 
	N Park Ave\, Tucson\, AZ 85719
STATUS:CONFIRMED
CATEGORIES:art,borderlands,presentation
X-ALT-DESC;FMTTYPE=text/html:<p> Charlas con Café with artist Alejandro Mac
	ias</p>
END:VEVENT
END:VCALENDAR
