BEGIN:VCALENDAR
VERSION:2.0
CALSCALE:GREGORIAN
PRODID:adamgibbons/ics
METHOD:PUBLISH
X-PUBLISHED-TTL:PT1H
BEGIN:VEVENT
UID:10@tucsontimeline.info
SUMMARY:Cyclovia Fall 2024
DTSTAMP:20260423T094439Z
DTSTART:20241027T160000Z
DTEND:20241027T210000Z
DESCRIPTION:Arizona's biggest block party. bike\, walk\, run\, etc\n\n\n\n\
	n\n\n\n\n\n
URL:https://tucsontimeline.info/event/cyclovia-fall-2024
GEO:32.219;-110.968
LOCATION:downtown and south - Armory Park\, Santa Rita Park
STATUS:CONFIRMED
CATEGORIES:activism,bikes
X-ALT-DESC;FMTTYPE=text/html:<p>Arizona's biggest block party. <strong>bike
	</strong>, walk, run, etc</p><p></p><p></p><p></p><p></p><p></p>
END:VEVENT
BEGIN:VEVENT
UID:60@tucsontimeline.info
SUMMARY:Alley Bat 2024
DTSTAMP:20260423T094439Z
DTSTART:20241026T233000Z
DTEND:20241027T040000Z
DESCRIPTION:A SPOOKY AND SILLY ALLEYBAT THAT’S ALSO A FUNDRAISER FOR TWO RA
	D MUTUAL AID\nGROUPS! 🦇 🚲 ✨\n—\n\n\n\nA RIDE + RAFFLE FOR TUCSON FOOD SHAR
	E @FOODNOTBOMBS_TUCSON\n[https://www.instagram.com/foodnotbombs_tucson/] A
	ND COMMUNITY CARE TUCSON\n@COMMUNITYCARETUCSON [https://www.instagram.com/
	communitycaretucson/] .\n\n\n\n(see instagram link for details - sorry)
URL:https://tucsontimeline.info/event/alley-bat-2024
GEO:32.2329;-110.935
LOCATION:Himmel Park - Tucson\, Pima County\, Arizona\, United States
STATUS:CONFIRMED
CATEGORIES:bikes,good causes
X-ALT-DESC;FMTTYPE=text/html:<h1>A spooky and silly Alleybat that’s also a 
	fundraiser for two rad mutual aid groups! 🦇 🚲 ✨ <br>—<br></h1><h1>a ride +
	 raffle for Tucson Food Share <a target="_blank" href="https://www.instagr
	am.com/foodnotbombs_tucson/">@foodnotbombs_tucson</a> and Community Care T
	ucson <a target="_blank" href="https://www.instagram.com/communitycaretucs
	on/">@communitycaretucson</a> .</h1><p></p><p>(see instagram link for deta
	ils - sorry)</p>
END:VEVENT
BEGIN:VEVENT
UID:21@tucsontimeline.info
SUMMARY:BICAS Art Mart After Dark
DTSTAMP:20260423T094439Z
DTSTART:20240921T010000Z
DTEND:20240921T040000Z
DESCRIPTION:support local artists and the BICAS non-profit organization. Th
	e BICAS Art Mart\nwas created in early 2021 in response to Tucson art even
	ts being canceled in\n2020. In continuing this inspired event\, which is a
	 new BICAS tradition\, & with\nthe inclusion of a summer night time market
	\, we’re once again excited to host\ntucson talent and emerging local arti
	sts once more!
URL:https://tucsontimeline.info/event/bicas-art-mart-after-dark
GEO:32.2466;-110.97
LOCATION:BICAS - 2001 N 7th ave
STATUS:CONFIRMED
CATEGORIES:art,bikes,shopping
X-ALT-DESC;FMTTYPE=text/html:<p>support local artists and the <strong>BICAS
	</strong> non-profit organization. The BICAS Art Mart was created in early
	 2021 in response to Tucson art events being canceled in 2020. In continui
	ng this inspired event, which is a new BICAS tradition, &amp; with the inc
	lusion of a summer night time market, we’re once again excited to host tuc
	son talent and emerging local artists once more!</p>
END:VEVENT
BEGIN:VEVENT
UID:9@tucsontimeline.info
SUMMARY:BICAS Volunteer Orientation
DTSTAMP:20260423T094439Z
DTSTART:20240828T013000Z
DTEND:20240828T023000Z
DESCRIPTION:Join us on Thursday\, August 29th at 6:30pm for our Volunteer O
	rientation! Come\nlearn how you can get involved with BICAS and support th
	e community through\ncycling\, art\, education\, and more!\n\nhttps://bica
	s.org [https://bicas.org]\n\n
URL:https://tucsontimeline.info/event/bicas-volunteer-orientation
GEO:32.2466;-110.97
LOCATION:BICAS - 2001 N 7th ave
STATUS:CONFIRMED
CATEGORIES:bikes,good causes
X-ALT-DESC;FMTTYPE=text/html:<p>Join us on <strong>Thursday, August 29th at
	 6:30pm</strong> for our Volunteer Orientation! Come learn how you can get
	 involved with BICAS and support the community through cycling, art, educa
	tion, and more!</p><p><a target="_blank" href="https://bicas.org">https://
	bicas.org</a></p><p></p>
END:VEVENT
END:VCALENDAR
