BEGIN:VCALENDAR
VERSION:2.0
CALSCALE:GREGORIAN
PRODID:adamgibbons/ics
METHOD:PUBLISH
X-PUBLISHED-TTL:PT1H
BEGIN:VEVENT
UID:152@tucsontimeline.info
SUMMARY:The Wanted 18
DTSTAMP:20260423T110417Z
DTSTART:20250126T210000Z
DTEND:20250126T223000Z
DESCRIPTION:2025 Palestine Film Series - Presented by Arizona Palestine Sol
	idarity Alliance\n\nThe Israeli army declares 18 cows "enemies of the stat
	e" because Palestinians\nhave started a small local dairy farm in an efffo
	rt to boycott the Israeli milk\nmonopoly.\n\nPlease dress warmly!\n\nFree!
URL:https://tucsontimeline.info/event/the-wanted-18
LOCATION:global justice center - 225 E. 26th St. Tucson\, Arizona
STATUS:CONFIRMED
CATEGORIES:acti,Film
X-ALT-DESC;FMTTYPE=text/html:<p>2025 Palestine Film Series - Presented by A
	rizona Palestine Solidarity Alliance</p><p>The Israeli army declares 18 co
	ws "enemies of the state" because Palestinians have started a small local 
	dairy farm in an efffort to boycott the Israeli milk monopoly.</p><p>Pleas
	e dress warmly!</p><p>Free!</p>
END:VEVENT
BEGIN:VEVENT
UID:151@tucsontimeline.info
SUMMARY:Tucson Peace Center Spaghetti Dinner
DTSTAMP:20260423T110417Z
DTSTART:20250126T010000Z
DESCRIPTION:Join Tucson Peace Center members and supporters at a delicious 
	spaghetti dinner.
URL:https://tucsontimeline.info/event/tucson-peace-center-spaghetti-dinner
LOCATION:Southside Presbyterian Church - 317 W 23rd St
STATUS:CONFIRMED
CATEGORIES:acti,food
X-ALT-DESC;FMTTYPE=text/html:<p>Join Tucson Peace Center members and suppor
	ters at a delicious spaghetti dinner.</p>
END:VEVENT
END:VCALENDAR
