BEGIN:VCALENDAR
VERSION:2.0
CALSCALE:GREGORIAN
PRODID:adamgibbons/ics
METHOD:PUBLISH
X-PUBLISHED-TTL:PT1H
BEGIN:VEVENT
UID:310@tucsontimeline.info
SUMMARY:Derek Monypeny & Kevin Corcoran with Cecyl Ruehlen
DTSTAMP:20260423T044105Z
DTSTART:20250620T020000Z
DESCRIPTION:Announcing: Derek Monypeny & Kevin Corcoran with Cecyl Ruehlen\
	n\nExplore the “desert continuum” through the sounds of these expansive ar
	tists. We\nare thrilled to host this show that feels like cool breezes und
	er bright suns.\n\nJoin us Thursday\, June 19th at 7pm
URL:https://tucsontimeline.info/event/derek-monypeny-and-kevin-corcoran-wit
	h-cecyl-ruehlen
LOCATION:Pidgin Palace - 1110 S 6th Ave\, Tucson\, AZ 85701
STATUS:CONFIRMED
CATEGORIES:acoustic,concert,experimental,livemusic,liveshow,music
X-ALT-DESC;FMTTYPE=text/html:<p>Announcing: Derek Monypeny &amp; Kevin Corc
	oran with Cecyl Ruehlen</p><p>Explore the “desert continuum” through the s
	ounds of these expansive artists. We are thrilled to host this show that f
	eels like cool breezes under bright suns.</p><p>Join us Thursday, June 19t
	h at 7pm</p>
END:VEVENT
END:VCALENDAR
