BEGIN:VCALENDAR
VERSION:2.0
CALSCALE:GREGORIAN
PRODID:adamgibbons/ics
METHOD:PUBLISH
X-PUBLISHED-TTL:PT1H
BEGIN:VEVENT
UID:182@tucsontimeline.info
SUMMARY:ELUSIVA WITH PONDI MAP AND MASSI
DTSTAMP:20260423T050000Z
DTSTART:20250302T050000Z
DTEND:20250302T083000Z
DESCRIPTION:Elusiva is back on the Palace floor with Pondi Map and Massi. D
	ance your asses\noff!\n\n$5-10 sliding scale door.
URL:https://tucsontimeline.info/event/elusiva-with-pondi-map-and-massi
LOCATION:Pidgin Palace - 1110 S 6th Ave\, Tucson\, AZ 85701
STATUS:CONFIRMED
CATEGORIES:bar,dance,danceparty,dj,elusiva,music,Party,pidginpalace
X-ALT-DESC;FMTTYPE=text/html:<p>Elusiva is back on the Palace floor with Po
	ndi Map and Massi. Dance your asses off! </p><p>$5-10 sliding scale door. 
	</p>
END:VEVENT
BEGIN:VEVENT
UID:183@tucsontimeline.info
SUMMARY:RETROFIT - Not your Basic Decades Dance Night
DTSTAMP:20260423T050000Z
DTSTART:20250301T040000Z
DTEND:20250301T080000Z
DESCRIPTION:We've got the one and only DJ BORTS MINORTS in the house. Let's
	 end out February\nin style. Come as you are or dress in your most tubular
	 retro - fit.\n\n9pm - Late. Sip on an old-fashioned and get down.
URL:https://tucsontimeline.info/event/retrofit-not-your-basic-decades-dance
	-night
LOCATION:Pidgin Palace - 1110 S 6th Ave\, Tucson\, AZ 85701
STATUS:CONFIRMED
CATEGORIES:80s,dance,decades,disco,dj,music,Party,retro
X-ALT-DESC;FMTTYPE=text/html:<p>We've got the one and only DJ BORTS MINORTS
	 in the house. Let's end out February in style. Come as you are or dress i
	n your most tubular retro - fit. </p><p>9pm - Late. Sip on an old-fashione
	d and get down. </p>
END:VEVENT
BEGIN:VEVENT
UID:100@tucsontimeline.info
SUMMARY:ELUSIVA. AMBENT. GROOVHAUS.
DTSTAMP:20260423T050000Z
DTSTART:20241214T050000Z
DTEND:20241214T090000Z
DESCRIPTION:DJs ELUSIVA\, AMBENT\, & GROOVHAUS take over the Pidgin Palace 
	dancefloor. Get\nyour groove on and let loose.
URL:https://tucsontimeline.info/event/elusiva-ambent-groovhaus
LOCATION:Pidgin Palace - 1110 S 6th Ave\, Tucson\, AZ 85701
STATUS:CONFIRMED
CATEGORIES:dance,dj,EDM,house,Party
X-ALT-DESC;FMTTYPE=text/html:<p>DJs ELUSIVA, AMBENT, &amp; GROOVHAUS take o
	ver the Pidgin Palace dancefloor. Get your groove on and let loose. </p>
END:VEVENT
BEGIN:VEVENT
UID:99@tucsontimeline.info
SUMMARY:Slow Body After Party
DTSTAMP:20260423T050000Z
DTSTART:20241208T060000Z
DTEND:20241208T083000Z
DESCRIPTION:Welcome GROOVHAUS\, SVITO\, & NADA to the palace and dance til 
	the morning hours.
URL:https://tucsontimeline.info/event/slow-body-after-party
LOCATION:Pidgin Palace - 1110 S 6th Ave\, Tucson\, AZ 85701
STATUS:CONFIRMED
CATEGORIES:dance,dj,free,house,Party
X-ALT-DESC;FMTTYPE=text/html:<p>Welcome GROOVHAUS, SVITO, &amp; NADA to the
	 palace and dance til the morning hours. </p>
END:VEVENT
END:VCALENDAR
