BEGIN:VCALENDAR
VERSION:2.0
CALSCALE:GREGORIAN
PRODID:adamgibbons/ics
METHOD:PUBLISH
X-PUBLISHED-TTL:PT1H
BEGIN:VEVENT
UID:38@tucsontimeline.info
SUMMARY:“Perfect Strangers” Speed-friending Event
DTSTAMP:20260425T103937Z
DTSTART:20241005T223000Z
DTEND:20241006T000000Z
DESCRIPTION:Sit with a group of strangers and get to know them through draw
	ing them in a\nblind contour style (you won't be looking at the paper whil
	e you draw!). It's\nsuper fun and a great way to break the ice and get a f
	eel for some new folks.\nThere's a matching system in place for mutual int
	erest\, kind of like a\nspeed-dating event. But for friendship! Come have 
	some laughs with us!
URL:https://tucsontimeline.info/event/perfect-strangers-speed-friending-eve
	nt
LOCATION:Tap + Bottle (North) - 7254 North Oracle Road\, Tucson AZ
STATUS:CONFIRMED
CATEGORIES:art,draw and sip,Drawing,Drawing workshop,Drink and draw,friends
	hip,speed dating
X-ALT-DESC;FMTTYPE=text/html:<p>Sit with a group of strangers and get to kn
	ow them through drawing them in a blind contour style (you won't be lookin
	g at the paper while you draw!). It's super fun and a great way to break t
	he ice and get a feel for some new folks. There's a matching system in pla
	ce for mutual interest, kind of like a speed-dating event. But for friends
	hip! Come have some laughs with us!</p>
END:VEVENT
BEGIN:VEVENT
UID:42@tucsontimeline.info
SUMMARY:Mapping Q Art Fair
DTSTAMP:20260425T103937Z
DTSTART:20241005T190000Z
DTEND:20241005T230000Z
DESCRIPTION:An open-air market featuring artwork by Mapping Q workshop part
	icipants. Support\nlocal LGBTQ+ youth artists. Works for sale will include
	 patches\, prints\, zines\nand more. Community organizations will also be 
	onsite\, and there will be a\nbutton-making station where you can create y
	our own wearable art.\n\nVisitors can also explore the exhibition still qu
	eer after all these years\n[https://artmuseum.arizona.edu/see-do/exhibitio
	ns/2024/07/13/mapping-q-2024-still-queer-after-all-these-years]\,\nwhich c
	elebrates the 10th Anniversary of UAMA's Mapping Q program\n[https://artmu
	seum.arizona.edu/learn/community/mapping-q]. Admission will be\npay-what-y
	ou-wish\, with all revenue going to support awesome outreach programs\nlik
	e Mapping Q.
URL:https://tucsontimeline.info/event/mapping-q-art-fair
LOCATION:The University of Arizona Museum of Art - 1031 N Olive Rd\, Tucson
	\, AZ 85721
STATUS:CONFIRMED
CATEGORIES:art,Drawing,good causes,LGBTQ+,youth
X-ALT-DESC;FMTTYPE=text/html:<p>An open-air market featuring artwork by Map
	ping Q workshop participants. Support local LGBTQ+ youth artists. Works fo
	r sale will include patches, prints, zines and more. Community organizatio
	ns will also be onsite, and there will be a button-making station where yo
	u can create your own wearable art.</p><p>Visitors can also explore the ex
	hibition <a target="_blank" href="https://artmuseum.arizona.edu/see-do/exh
	ibitions/2024/07/13/mapping-q-2024-still-queer-after-all-these-years"><str
	ong><em>still queer after all these years</em></strong></a>, which celebra
	tes the 10th Anniversary of UAMA's <a target="_blank" href="https://artmus
	eum.arizona.edu/learn/community/mapping-q"><strong>Mapping Q program</stro
	ng></a>. Admission will be pay-what-you-wish, with all revenue going to su
	pport awesome outreach programs like Mapping Q.</p>
END:VEVENT
BEGIN:VEVENT
UID:37@tucsontimeline.info
SUMMARY:Floral Arranging + Drawing Workshop
DTSTAMP:20260425T103937Z
DTSTART:20241004T010000Z
DTEND:20241004T023000Z
DESCRIPTION:Join us for a unique workshop where you’ll learn to create a st
	unning\nikebana-style floral arrangement with Bloom Maven owner Akiko Send
	a\, followed by\na drawing session with local artist Linus\, using her sig
	nature blind contour\nstyle. Don't miss this chance to bring your floral c
	reation to life both in\nbloom and on paper!\n\nThis class includes:\n\n *
	 All materials + tools provided\n\n * A vase arrangement + floral drawing 
	of your creation to take home\n\n * Q&A\, sips and shopping
URL:https://tucsontimeline.info/event/floral-arranging-drawing-workshop
LOCATION:Bloom Maven - 160 S. Avenida del Convento
STATUS:CONFIRMED
CATEGORIES:art,Drawing,Drawing workshop,floral arranging,floral workshop,fl
	owers,meditative
X-ALT-DESC;FMTTYPE=text/html:<p>Join us for a unique workshop where you’ll 
	learn to create a stunning ikebana-style floral arrangement with Bloom Mav
	en owner Akiko Senda, followed by a drawing session with local artist Linu
	s, using her signature blind contour style. Don't miss this chance to brin
	g your floral creation to life both in bloom and on paper!</p><p>This clas
	s includes:</p><ul><li><p>All materials + tools provided</p></li><li><p>A 
	vase arrangement + floral drawing of your creation to take home</p></li><l
	i><p>Q&amp;A, sips and shopping</p></li></ul>
END:VEVENT
END:VCALENDAR
