BEGIN:VCALENDAR
VERSION:2.0
CALSCALE:GREGORIAN
PRODID:adamgibbons/ics
METHOD:PUBLISH
X-PUBLISHED-TTL:PT1H
BEGIN:VEVENT
UID:28@tucsontimeline.info
SUMMARY:Protect AZ/NM Skies Public Comments Last Day
DTSTAMP:20260425T122607Z
DTSTART:20241009T070000Z
DTEND:20241010T065500Z
DESCRIPTION:The last day to submit public comments\n[https://www.arizonareg
	ionalairspaceeis.com/comments/] on the negligent DEIS\n[https://www.arizon
	aregionalairspaceeis.com/documents/] for Air Force proposals\n[https://pea
	cefulchiricahuaskies.com/] to severely escalate military air combat\ntrain
	ing in rural towns\, Native communities\, and protected wilderness areas.
URL:https://tucsontimeline.info/event/protect-aznm-skies-public-comments-la
	st-day
LOCATION:online - https://www.arizonaregionalairspaceeis.com/comments/
STATUS:CONFIRMED
CATEGORIES:activism,good causes
X-ALT-DESC;FMTTYPE=text/html:<p>The last day to <a target="_blank" href="ht
	tps://www.arizonaregionalairspaceeis.com/comments/">submit public comments
	</a> on the <a target="_blank" href="https://www.arizonaregionalairspaceei
	s.com/documents/">negligent DEIS</a> for Air Force <a target="_blank" href
	="https://peacefulchiricahuaskies.com/">proposals</a> to severely escalate
	 military air combat training in rural towns, Native communities, and prot
	ected wilderness areas.</p>
END:VEVENT
BEGIN:VEVENT
UID:23@tucsontimeline.info
SUMMARY:Protect AZ/NM Skies from Military Air Combat Training Virtual Works
	hop
DTSTAMP:20260425T122607Z
DTSTART:20241003T230000Z
DTEND:20241004T000000Z
DESCRIPTION:A free virtual workshop to help write and submit comments on th
	e negligent Air\nForce DEIS [https://www.arizonaregionalairspaceeis.com/do
	cuments/] to escalate\nmilitary air combat training in rural towns\, Nativ
	e communities\, and protected\nwilderness of AZ/NM\, with Peaceful Chirica
	hua Skies\n[https://peacefulchiricahuaskies.com/] at 4P.
URL:https://tucsontimeline.info/event/protect-aznm-skies-from-severe-milita
	rization-virtual-workshop
LOCATION:online - https://us06web.zoom.us/meeting/register/tZIvdu-rpz4pE9Uv
	mwxx12l_N0292v5nHULb#/registration
STATUS:CONFIRMED
CATEGORIES:activism,good causes
X-ALT-DESC;FMTTYPE=text/html:<p>A free virtual workshop to help write and s
	ubmit comments on the <a href="https://www.arizonaregionalairspaceeis.com/
	documents/" target="_blank">negligent Air Force DEIS</a> to escalate milit
	ary air combat training in rural towns, Native communities, and protected 
	wilderness of AZ/NM, with <a href="https://peacefulchiricahuaskies.com/" t
	arget="_blank">Peaceful Chiricahua Skies</a> at 4P.</p>
END:VEVENT
BEGIN:VEVENT
UID:6@tucsontimeline.info
SUMMARY:Federation Day
DTSTAMP:20260425T122607Z
DTSTART:20240816T210000Z
DTEND:20240817T010000Z
DESCRIPTION:seeing if this triggers a "post" on the fediverse...
URL:https://tucsontimeline.info/event/federation-day
LOCATION:online - https://detritus.net
STATUS:CONFIRMED
CATEGORIES:test
X-ALT-DESC;FMTTYPE=text/html:<p>seeing if this triggers a "post" on the fed
	iverse...</p>
END:VEVENT
BEGIN:VEVENT
UID:1@tucsontimeline.info
SUMMARY:A Happening
DTSTAMP:20260425T122607Z
DTSTART:20240814T220000Z
DTEND:20240814T231500Z
DESCRIPTION:a thing is going to happen!
URL:https://tucsontimeline.info/event/a-happening
LOCATION:online - https://detritus.net
STATUS:CONFIRMED
CATEGORIES:performance,test
X-ALT-DESC;FMTTYPE=text/html:<p>a thing is <strong>going</strong> to happen
	!</p>
END:VEVENT
END:VCALENDAR
