BEGIN:VCALENDAR
VERSION:2.0
CALSCALE:GREGORIAN
PRODID:adamgibbons/ics
METHOD:PUBLISH
X-PUBLISHED-TTL:PT1H
BEGIN:VEVENT
UID:218@tucsontimeline.info
SUMMARY:Sine & Symbol at MOCA Tucson
DTSTAMP:20260423T111324Z
DTSTART:20250330T010000Z
DTEND:20250330T060000Z
DESCRIPTION:Night 3 of Sine & Symbol at MOCA Tucson\, featuring performance
	s from Anna Brody\,\nBeau Devereaux\, Camila de Andrade Bianchi\, Lauren S
	arah Hayes with visuals by\nMarizo Siller\, MaiuuwaK with movement by Eryk
	da Dellenbach\, Sofia Matus Cancino\,\nBlue Dust Archive and Jesse Kees\, 
	Emily Xander\, and Vivi Pride live scoring\nfilms by Gabriella Molina and 
	more.
URL:https://tucsontimeline.info/event/sine-and-symbol-at-moca-tucson
GEO:32.2179;-110.972
LOCATION:MOCA-Tucson - 265 South Church Avenue Tucson
STATUS:CONFIRMED
CATEGORIES:desert drone,desertdrone,drone,experimental,music,sineandsymbol
X-ALT-DESC;FMTTYPE=text/html:<p>Night 3 of Sine &amp; Symbol at MOCA Tucson
	, featuring performances from Anna Brody, Beau Devereaux, Camila de Andrad
	e Bianchi, Lauren Sarah Hayes with visuals by Marizo Siller, MaiuuwaK with
	 movement by Erykda Dellenbach, Sofia Matus Cancino, Blue Dust Archive and
	 Jesse Kees, Emily Xander, and Vivi Pride live scoring films by Gabriella 
	Molina and more.</p>
END:VEVENT
BEGIN:VEVENT
UID:18@tucsontimeline.info
SUMMARY:Graves for the Rain performance
DTSTAMP:20260423T111324Z
DTSTART:20250112T210000Z
DESCRIPTION:Durational and open-format piece performed by Karima Walker. Vi
	sitors are\ninvited to respectfully enter and exit the space at their own 
	discretion. "In\neach performance\, Walker situates her body in relation t
	o the water body walking\nin a circular path in the direction of the river
	's flow while releasing fluvial\nsoil collected from the Santa Cruz River 
	to the floor..."\n\n\n\nsee https://moca-tucson.org [https://moca-tucson.o
	rg] for details.
URL:https://tucsontimeline.info/event/graves-for-the-rain-performance-2
GEO:32.2179;-110.972
LOCATION:MOCA-Tucson - 265 South Church Avenue Tucson
STATUS:CONFIRMED
CATEGORIES:art,music
X-ALT-DESC;FMTTYPE=text/html:<p>Durational and open-format piece performed 
	by Karima Walker. Visitors are invited to respectfully enter and exit the 
	space at their own discretion. "In each performance, Walker situates her b
	ody in relation to the water body walking in a circular path in the direct
	ion of the river's flow while releasing fluvial soil collected from the Sa
	nta Cruz River to the floor..."</p><p></p><p>see <a target="_blank" href="
	https://moca-tucson.org">https://moca-tucson.org</a> for details.</p>
END:VEVENT
BEGIN:VEVENT
UID:17@tucsontimeline.info
SUMMARY:Graves for the Rain performance
DTSTAMP:20260423T111324Z
DTSTART:20241208T210000Z
DESCRIPTION:Durational and open-format piece performed by Karima Walker. Vi
	sitors are\ninvited to respectfully enter and exit the space at their own 
	discretion. "In\neach performance\, Walker situates her body in relation t
	o the water body walking\nin a circular path in the direction of the river
	's flow while releasing fluvial\nsoil collected from the Santa Cruz River 
	to the floor..."\n\n\n\nsee https://moca-tucson.org [https://moca-tucson.o
	rg] for details.
URL:https://tucsontimeline.info/event/graves-for-the-rain-performance-1
GEO:32.2179;-110.972
LOCATION:MOCA-Tucson - 265 South Church Avenue Tucson
STATUS:CONFIRMED
CATEGORIES:art,music
X-ALT-DESC;FMTTYPE=text/html:<p>Durational and open-format piece performed 
	by Karima Walker. Visitors are invited to respectfully enter and exit the 
	space at their own discretion. "In each performance, Walker situates her b
	ody in relation to the water body walking in a circular path in the direct
	ion of the river's flow while releasing fluvial soil collected from the Sa
	nta Cruz River to the floor..."</p><p></p><p>see <a href="https://moca-tuc
	son.org" target="_blank">https://moca-tucson.org</a> for details.</p>
END:VEVENT
BEGIN:VEVENT
UID:16@tucsontimeline.info
SUMMARY:Graves for the Rain performance
DTSTAMP:20260423T111324Z
DTSTART:20241103T210000Z
DESCRIPTION:Durational and open-format piece performed by Karima Walker. Vi
	sitors are\ninvited to respectfully enter and exit the space at their own 
	discretion. "In\neach performance\, Walker situates her body in relation t
	o the water body walking\nin a circular path in the direction of the river
	's flow while releasing fluvial\nsoil collected from the Santa Cruz River 
	to the floor..."\n\n\n\nsee https://moca-tucson.org [https://moca-tucson.o
	rg] for details.
URL:https://tucsontimeline.info/event/graves-for-the-rain-performance
GEO:32.2179;-110.972
LOCATION:MOCA-Tucson - 265 South Church Avenue Tucson
STATUS:CONFIRMED
CATEGORIES:art,music
X-ALT-DESC;FMTTYPE=text/html:<p>Durational and open-format piece performed 
	by Karima Walker. Visitors are invited to respectfully enter and exit the 
	space at their own discretion. "In each performance, Walker situates her b
	ody in relation to the water body walking in a circular path in the direct
	ion of the river's flow while releasing fluvial soil collected from the Sa
	nta Cruz River to the floor..."</p><p></p><p>see <a target="_blank" href="
	https://moca-tucson.org">https://moca-tucson.org</a> for details.</p>
END:VEVENT
BEGIN:VEVENT
UID:44@tucsontimeline.info
SUMMARY:EXHIBITION OPENING: Juan Obando and Yoshua Okón: DEMO
DTSTAMP:20260423T111324Z
DTSTART:20241012T020000Z
DESCRIPTION:DEMO is a multimedia exhibition by artists Juan Obando and Yosh
	ua Okón that\nexplores “astroturfing”\, a marketing ploy that generates fa
	ke public\ndemonstrations intended to appear as grassroots political movem
	ents. Through\nvideo\, sculptures\, and installation\, the artists expose 
	how astroturfing methods\nare used to manipulate public perceptions and ne
	utralize political action.\n\n\n\nThis exhibition is organized by Julio Cé
	sar Morales\, Executive Director & Lead\nCurator with Laura Copelin\, Depu
	ty Director & Lead Curator.\n\n\n\nMembers Preview | 6-7pm\n+ Curator’s to
	ast and words.
URL:https://tucsontimeline.info/event/exhibition-opening-juan-obando-and-yo
	shua-okon-demo
GEO:32.2179;-110.972
LOCATION:MOCA-Tucson - 265 South Church Avenue Tucson
STATUS:CONFIRMED
CATEGORIES:art
X-ALT-DESC;FMTTYPE=text/html:<p><em>DEMO</em>&nbsp;is a multimedia exhibiti
	on by artists&nbsp;<strong>Juan Obando</strong>&nbsp;and&nbsp;<strong>Yosh
	ua Okón</strong>&nbsp;that explores “astroturfing”, a marketing ploy that 
	generates fake public demonstrations intended to appear as grassroots poli
	tical movements. Through video, sculptures, and installation, the artists 
	expose how astroturfing methods are used to manipulate public perceptions 
	and neutralize political action.</p><p></p><p><em>This exhibition is organ
	ized by Julio César Morales, Executive Director &amp; Lead Curator with La
	ura Copelin, Deputy Director &amp; Lead Curator.</em></p><p></p><p><strong
	>Members Preview | 6-7pm</strong><br><em>+ Curator’s toast and words.</em>
	</p>
END:VEVENT
BEGIN:VEVENT
UID:15@tucsontimeline.info
SUMMARY:Opening at MOCA: CAConrad & Karima Walker
DTSTAMP:20260423T111324Z
DTSTART:20240914T020000Z
DTEND:20240914T040000Z
DESCRIPTION:Members Preview | 6-7pm\n+ Curator’s toast and words.\n\n+ MOCA
	 Members register here\n[https://urldefense.com/v3/__https://moca-tucson.u
	s11.list-manage.com/track/click?u=1c6734b8fa85f0d6dffa2bf9d&id=2efa39eaa3&
	e=2712196352__\;!!IKRxdwAv5BmarQ!ad_wUMZ5JBqknDwtswLsuQamFu6QqOXdTq8sr6k9S
	Px1v8d7oj7qrpJomAPyofFxx4AkfZKZvDs9APTzgdoV$] or become\na MOCA Member tod
	ay\n[https://urldefense.com/v3/__https://moca-tucson.us11.list-manage.com/
	track/click?u=1c6734b8fa85f0d6dffa2bf9d&id=3a8baf6ebe&e=2712196352__\;!!IK
	RxdwAv5BmarQ!ad_wUMZ5JBqknDwtswLsuQamFu6QqOXdTq8sr6k9SPx1v8d7oj7qrpJomAPyo
	fFxx4AkfZKZvDs9AM2_Xw5W$]!\n\n\n\nPublic Opening & Performance | 7-9pm\n\n
	+ Celebrate the new exhibitions\n[https://urldefense.com/v3/__https://moca
	-tucson.us11.list-manage.com/track/click?u=1c6734b8fa85f0d6dffa2bf9d&id=e4
	9f35ba58&e=2712196352__\;!!IKRxdwAv5BmarQ!ad_wUMZ5JBqknDwtswLsuQamFu6QqOXd
	Tq8sr6k9SPx1v8d7oj7qrpJomAPyofFxx4AkfZKZvDs9APqX65-i$]\nwith food by La Me
	rguez\, drinks\, and music!\n\n+ 7pm: Karima Walker performs as a part of 
	her exhibition Graves for the Rain.
URL:https://tucsontimeline.info/event/opening-at-moca-caconrad-and-karima-w
	alker
GEO:32.2179;-110.972
LOCATION:MOCA-Tucson - 265 South Church Avenue Tucson
STATUS:CONFIRMED
CATEGORIES:art,music
X-ALT-DESC;FMTTYPE=text/html:<p><strong>Members Preview | 6-7pm</strong><br
	><em>+ Curator’s toast and words.</em></p><p><em>+ MOCA Members&nbsp;</em>
	<a target="_blank" href="https://urldefense.com/v3/__https://moca-tucson.u
	s11.list-manage.com/track/click?u=1c6734b8fa85f0d6dffa2bf9d&amp;id=2efa39e
	aa3&amp;e=2712196352__;!!IKRxdwAv5BmarQ!ad_wUMZ5JBqknDwtswLsuQamFu6QqOXdTq
	8sr6k9SPx1v8d7oj7qrpJomAPyofFxx4AkfZKZvDs9APTzgdoV$"><em>register here</em
	></a><em>&nbsp;or&nbsp;</em><a target="_blank" href="https://urldefense.co
	m/v3/__https://moca-tucson.us11.list-manage.com/track/click?u=1c6734b8fa85
	f0d6dffa2bf9d&amp;id=3a8baf6ebe&amp;e=2712196352__;!!IKRxdwAv5BmarQ!ad_wUM
	Z5JBqknDwtswLsuQamFu6QqOXdTq8sr6k9SPx1v8d7oj7qrpJomAPyofFxx4AkfZKZvDs9AM2_
	Xw5W$"><em>become a MOCA Member today</em></a><em>!</em></p><p></p><p><str
	ong>Public Opening &amp; Performance | 7-9pm</strong></p><p><em>+ </em><a 
	target="_blank" href="https://urldefense.com/v3/__https://moca-tucson.us11
	.list-manage.com/track/click?u=1c6734b8fa85f0d6dffa2bf9d&amp;id=e49f35ba58
	&amp;e=2712196352__;!!IKRxdwAv5BmarQ!ad_wUMZ5JBqknDwtswLsuQamFu6QqOXdTq8sr
	6k9SPx1v8d7oj7qrpJomAPyofFxx4AkfZKZvDs9APqX65-i$"><em>Celebrate the new ex
	hibitions</em></a><em> with food by&nbsp;La Merguez, drinks, and music!</e
	m></p><p><em>+ 7pm: Karima Walker performs as a part of her exhibition&nbs
	p;Graves for the Rain.</em></p>
END:VEVENT
END:VCALENDAR
