BEGIN:VCALENDAR
VERSION:2.0
CALSCALE:GREGORIAN
PRODID:adamgibbons/ics
METHOD:PUBLISH
X-PUBLISHED-TTL:PT1H
BEGIN:VEVENT
UID:364@tucsontimeline.info
SUMMARY:Bob Colby's Birthday Bash with The Woahs\, Dedd Horsemen\, Spitegei
	st\, and Peggy-Lou Palmer at GROUNDWORKS
DTSTAMP:20260419T220746Z
DTSTART:20250815T014500Z
DTEND:20250815T050000Z
DESCRIPTION:Come to Bob Colby's Birthday Bash at Groundworks on THURSDAY\, 
	AUG 14\n\nThis month\, we have:\nTHE WOAHS\nDEDD HORSEMEN\nSPITEGEIST\nPEG
	GY-LOU PALMER\n\nAnd\, there will be cake!\n\nFlyer by Bella Crump\n\nGrou
	ndworks is an all-ages dry (no drugs or alcohol) space at 2919 E Grant Rd\
	n(near the corner of Grant & Country Club). It's $10\, doors open at 6:45\
	, and\nmusic goes from 7:15-10. See you there!
URL:https://tucsontimeline.info/event/bob-colbys-birthday-bash-with-the-woa
	hs-dedd-horsemen-spitegeist-and-peggy-lou-palmer-at-groundworks
LOCATION:Groundworks - 2919 E Grant Rd\, Tucson\, AZ 85716
STATUS:CONFIRMED
CATEGORIES:live music,music
X-ALT-DESC;FMTTYPE=text/html:<p>Come to Bob Colby's Birthday Bash at Ground
	works on THURSDAY, AUG 14</p><p>This month, we have:<br>THE WOAHS<br>DEDD 
	HORSEMEN<br>SPITEGEIST<br>PEGGY-LOU PALMER</p><p>And, there will be cake!<
	/p><p>Flyer by Bella Crump</p><p>Groundworks is an all-ages dry (no drugs 
	or alcohol) space at 2919 E Grant Rd (near the corner of Grant &amp; Count
	ry Club). It's $10, doors open at 6:45, and music goes from 7:15-10. See y
	ou there!</p>
END:VEVENT
BEGIN:VEVENT
UID:285@tucsontimeline.info
SUMMARY:Subconscious Art Exploration Workshop
DTSTAMP:20260419T220746Z
DTSTART:20250622T173000Z
DTEND:20250622T190000Z
DESCRIPTION:Subconscious Art Exploration is a guided\, meditative art works
	hop where\nparticipants tap into their subconscious\, work through stuck e
	motions and learn\nabout themselves while creating art in a low-pressure e
	nviroment. $10 per\nsession or pay what you can. All ages and experience l
	evels are welcome and\nmaterials will be provided.
URL:https://tucsontimeline.info/event/subconscious-art-exploration-workshop
	-4
LOCATION:Groundworks - 2919 E Grant Rd\, Tucson\, AZ 85716
STATUS:CONFIRMED
CATEGORIES:art,Drawing workshop,meditation,Workshop,youth
X-ALT-DESC;FMTTYPE=text/html:<p>Subconscious Art Exploration is a guided, m
	editative art workshop where participants tap into their subconscious, wor
	k through stuck emotions and learn about themselves while creating art in 
	a low-pressure enviroment. $10 per session or pay what you can. All ages a
	nd experience levels are welcome and materials will be provided.</p>
END:VEVENT
BEGIN:VEVENT
UID:284@tucsontimeline.info
SUMMARY:Subconscious Art Exploration Workshop
DTSTAMP:20260419T220746Z
DTSTART:20250615T173000Z
DTEND:20250615T190000Z
DESCRIPTION:Subconscious Art Exploration is a guided\, meditative art works
	hop where\nparticipants tap into their subconscious\, work through stuck e
	motions and learn\nabout themselves while creating art in a low-pressure e
	nviroment. $10 per\nsession or pay what you can. All ages and experience l
	evels are welcome and\nmaterials will be provided.
URL:https://tucsontimeline.info/event/subconscious-art-exploration-workshop
	-3
LOCATION:Groundworks - 2919 E Grant Rd\, Tucson\, AZ 85716
STATUS:CONFIRMED
CATEGORIES:art,Drawing workshop,meditation,Workshop,youth
X-ALT-DESC;FMTTYPE=text/html:<p>Subconscious Art Exploration is a guided, m
	editative art workshop where participants tap into their subconscious, wor
	k through stuck emotions and learn about themselves while creating art in 
	a low-pressure enviroment. $10 per session or pay what you can. All ages a
	nd experience levels are welcome and materials will be provided.</p>
END:VEVENT
BEGIN:VEVENT
UID:283@tucsontimeline.info
SUMMARY:Subconscious Art Exploration Workshop
DTSTAMP:20260419T220746Z
DTSTART:20250608T173000Z
DTEND:20250608T190000Z
DESCRIPTION:Subconscious Art Exploration is a guided\, meditative art works
	hop where\nparticipants tap into their subconscious\, work through stuck e
	motions and learn\nabout themselves while creating art in a low-pressure e
	nviroment. $10 per\nsession or pay what you can. All ages and experience l
	evels are welcome and\nmaterials will be provided.
URL:https://tucsontimeline.info/event/subconscious-art-exploration-workshop
	-2
LOCATION:Groundworks - 2919 E Grant Rd\, Tucson\, AZ 85716
STATUS:CONFIRMED
CATEGORIES:art,Drawing workshop,meditation,Workshop,youth
X-ALT-DESC;FMTTYPE=text/html:<p>Subconscious Art Exploration is a guided, m
	editative art workshop where participants tap into their subconscious, wor
	k through stuck emotions and learn about themselves while creating art in 
	a low-pressure enviroment. $10 per session or pay what you can. All ages a
	nd experience levels are welcome and materials will be provided.</p>
END:VEVENT
BEGIN:VEVENT
UID:282@tucsontimeline.info
SUMMARY:Subconscious Art Exploration Workshop
DTSTAMP:20260419T220746Z
DTSTART:20250601T173000Z
DTEND:20250601T190000Z
DESCRIPTION:Subconscious Art Exploration is a guided\, meditative art works
	hop where\nparticipants tap into their subconscious\, work through stuck e
	motions and learn\nabout themselves while creating art in a low-pressure e
	nviroment. $10 per\nsession or pay what you can. All ages and experience l
	evels are welcome and\nmaterials will be provided.
URL:https://tucsontimeline.info/event/subconscious-art-exploration-workshop
	-1
LOCATION:Groundworks - 2919 E Grant Rd\, Tucson\, AZ 85716
STATUS:CONFIRMED
CATEGORIES:art,Drawing workshop,meditation,Workshop,youth
X-ALT-DESC;FMTTYPE=text/html:<p>Subconscious Art Exploration is a guided, m
	editative art workshop where participants tap into their subconscious, wor
	k through stuck emotions and learn about themselves while creating art in 
	a low-pressure enviroment. $10 per session or pay what you can. All ages a
	nd experience levels are welcome and materials will be provided.</p>
END:VEVENT
BEGIN:VEVENT
UID:281@tucsontimeline.info
SUMMARY:Subconscious Art Exploration Workshop
DTSTAMP:20260419T220746Z
DTSTART:20250525T173000Z
DTEND:20250525T190000Z
DESCRIPTION:Subconscious Art Exploration is a guided\, meditative art works
	hop where\nparticipants tap into their subconscious\, work through stuck e
	motions and learn\nabout themselves while creating art in a low-pressure e
	nviroment. $10 per\nsession or pay what you can. All ages and experience l
	evels are welcome and\nmaterials will be provided.
URL:https://tucsontimeline.info/event/subconscious-art-exploration-workshop
LOCATION:Groundworks - 2919 E Grant Rd\, Tucson\, AZ 85716
STATUS:CONFIRMED
CATEGORIES:art,community,Drawing workshop,meditation,Workshop,youth
X-ALT-DESC;FMTTYPE=text/html:<p>Subconscious Art Exploration is a guided, m
	editative art workshop where participants tap into their subconscious, wor
	k through stuck emotions and learn about themselves while creating art in 
	a low-pressure enviroment. $10 per session or pay what you can. All ages a
	nd experience levels are welcome and materials will be provided.</p>
END:VEVENT
BEGIN:VEVENT
UID:264@tucsontimeline.info
SUMMARY:Tenspd\, The Working People\, Shudder Kong (full band) at Groundwoo
	rks (Bob Colby Presents 2nd Thursdays)
DTSTAMP:20260419T220746Z
DTSTART:20250509T020000Z
DTEND:20250509T050000Z
DESCRIPTION:Come to the next monthly Bob Colby Presents show at Groundworks
	 on THURSDAY\, MAY\n8\nThis month\, we have:\nTENSPD\nTHE WORKING PEOPLE\n
	SHUDDER KONG (full band)\n\nFlyer by Tenspd\n\nGroundworks is an all-ages 
	dry (no drugs or alcohol) space at 2919 E Grant Rd\n(near the corner of Gr
	ant & Country Club). It's $10\, doors open at 7\, and music\ngoes from 7:3
	0-10. See you there!
URL:https://tucsontimeline.info/event/tenspd-the-working-people-shudder-kon
	g-full-band-at-groundwoorks-bob-colby-presents-2nd-thursdays
LOCATION:Groundworks - 2919 E Grant Rd\, Tucson\, AZ 85716
STATUS:CONFIRMED
CATEGORIES:live performance,music
X-ALT-DESC;FMTTYPE=text/html:<p>Come to the next monthly Bob Colby Presents
	 show at Groundworks on THURSDAY, MAY 8<br>This month, we have:<br>TENSPD<
	br>THE WORKING PEOPLE<br>SHUDDER KONG (full band)</p><p>Flyer by Tenspd</p
	><p>Groundworks is an all-ages dry (no drugs or alcohol) space at 2919 E G
	rant Rd (near the corner of Grant &amp; Country Club). It's $10, doors ope
	n at 7, and music goes from 7:30-10. See you there!</p>
END:VEVENT
BEGIN:VEVENT
UID:180@tucsontimeline.info
SUMMARY:Favela (PHX)\, Lunar Excursion Module\, The Disconcertions (Bob Col
	by Presents Second Thursdays at Groundworks) on 03.13.2025
DTSTAMP:20260419T220746Z
DTSTART:20250314T020000Z
DTEND:20250314T050000Z
DESCRIPTION:Favela (from Phoenix)\, Lunar Excusion Module\, and The Disconc
	ertions. Doors at\n7\, show 7:30-10\, $10\, all ages.\n\nFlyer by Bella Cr
	ump
URL:https://tucsontimeline.info/event/favela-phx-lunar-excursion-module-the
	-disconcertions-bob-colby-presents-second-thursdays-at-groundworks-on-0313
	2025
LOCATION:Groundworks - 2919 E Grant Rd\, Tucson\, AZ 85716
STATUS:CONFIRMED
CATEGORIES:music
X-ALT-DESC;FMTTYPE=text/html:<p>Favela (from Phoenix), Lunar Excusion Modul
	e, and The Disconcertions. Doors at 7, show 7:30-10, $10, all ages.</p><p>
	Flyer by Bella Crump</p>
END:VEVENT
BEGIN:VEVENT
UID:162@tucsontimeline.info
SUMMARY:The Gem Show\, Borts Minorts\, Sad Reptilian at Groundworks (Bob Co
	lby Presents Second Thursdays)
DTSTAMP:20260419T220746Z
DTSTART:20250214T020000Z
DTEND:20250214T050000Z
DESCRIPTION:The Gem Show\, Borts Minorts\, Sad Reptilian at Groundworks (Bo
	b Colby Presents\nSecond Thursdays). Doors at 7\, show 7:30-10\n\nFlyer by
	 Bella Crump
URL:https://tucsontimeline.info/event/the-gem-show-borts-minorts-sad-reptil
	ian-at-groundworks-bob-colby-presents-second-thursdays
LOCATION:Groundworks - 2919 E Grant Rd\, Tucson\, AZ 85716
STATUS:CONFIRMED
CATEGORIES:music
X-ALT-DESC;FMTTYPE=text/html:<p>The Gem Show, Borts Minorts, Sad Reptilian 
	at Groundworks (Bob Colby Presents Second Thursdays). Doors at 7, show 7:3
	0-10</p><p>Flyer by Bella Crump</p>
END:VEVENT
BEGIN:VEVENT
UID:129@tucsontimeline.info
SUMMARY:Talug Presents: Sonoran Sound Club Ableton Showcase feat. Null Slee
	p + Sleep of Eons (All Ages)
DTSTAMP:20260419T220746Z
DTSTART:20250113T020000Z
DTEND:20250113T050000Z
DESCRIPTION:https://www.groundworkstucson.com/events/show-d34tk-thpxf-yzgj3
	-eaft6-33x36-a57tf-jbafk-m3jym-5x839\n[https://www.groundworkstucson.com/e
	vents/show-d34tk-thpxf-yzgj3-eaft6-33x36-a57tf-jbafk-m3jym-5x839]\n\nOpen 
	Aux\n\nTo kick the night off we'll be hosting an Open Aux session before t
	he live sets.\nAn opportunity to test out new tracks\, get feedback\, and 
	find collaborators.\nBring your gear and join our discord for more details
	 on how to sign up for a\nslot!\n\nhttps://discord.gg/8RRdya6gnx [https://
	discord.gg/8RRdya6gnx]\n\nNullsleep\n\nNullsleep employs obsolete hardware
	 alongside bleeding edge tech to produce\nlo-tek hi-nrg music – mutating a
	nd intersecting jungle\, techno\, trance\,\nchiptune\, and gabber. He is t
	he founder of 8bitpeoples\, a collective of artists\ncreating music with e
	arly home computers and video game consoles in a deliberate\nrejection of 
	the technology's planned obsolescence.\n\nhttps://nullsleep.bandcamp.com/ 
	[https://nullsleep.bandcamp.com/]\n\nhttps://www.instagram.com/nullsleep [
	https://www.instagram.com/nullsleep]\n\nSleep of Eons\n\nSleep of Eons cra
	fts hard-hitting glitch music inspired by breakcore\, IDM\, hip\nhop\, and
	 noise. Using generative techniques and live processing\, his work puts\ni
	ntricate rhythms\, heavy percussion\, dark ambient textures\, and ethereal
	 bliss\nat the forefront. An uneasy balance between the precision of compu
	ter software\nand the real-time deconstruction allowed by live modular syn
	thesis.
URL:https://tucsontimeline.info/event/talug-presents-sonoran-sound-club-abl
	eton-showcase-feat-null-sleep-sleep-of-eons
LOCATION:Groundworks - 2919 E Grant Rd\, Tucson\, AZ 85716
STATUS:CONFIRMED
CATEGORIES:music
X-ALT-DESC;FMTTYPE=text/html:<p><a href="https://www.groundworkstucson.com/
	events/show-d34tk-thpxf-yzgj3-eaft6-33x36-a57tf-jbafk-m3jym-5x839" target=
	"_blank">https://www.groundworkstucson.com/events/show-d34tk-thpxf-yzgj3-e
	aft6-33x36-a57tf-jbafk-m3jym-5x839</a></p><p><strong>Open Aux</strong></p>
	<p>To kick the night off we'll be hosting an Open Aux session before the l
	ive sets. An opportunity to test out new tracks, get feedback, and find co
	llaborators. Bring your gear and join our discord for more details on how 
	to sign up for a slot!</p><p><a href="https://discord.gg/8RRdya6gnx" targe
	t="_blank">https://discord.gg/8RRdya6gnx</a></p><p><strong>Nullsleep</stro
	ng></p><p>Nullsleep employs obsolete hardware alongside bleeding edge tech
	 to produce lo-tek hi-nrg music – mutating and intersecting jungle, techno
	, trance, chiptune, and gabber. He is the founder of 8bitpeoples, a collec
	tive of artists creating music with early home computers and video game co
	nsoles in a deliberate rejection of the technology's planned obsolescence.
	</p><p><a href="https://nullsleep.bandcamp.com/" target="_blank">https://n
	ullsleep.bandcamp.com/</a></p><p><a href="https://www.instagram.com/nullsl
	eep" target="_blank">https://www.instagram.com/nullsleep</a></p><p><strong
	>Sleep of Eons</strong></p><p>Sleep of Eons crafts hard-hitting glitch mus
	ic inspired by breakcore, IDM, hip hop, and noise. Using generative techni
	ques and live processing, his work puts intricate rhythms, heavy percussio
	n, dark ambient textures, and ethereal bliss at the forefront. An uneasy b
	alance between the precision of computer software and the real-time decons
	truction allowed by live modular synthesis.</p>
END:VEVENT
BEGIN:VEVENT
UID:128@tucsontimeline.info
SUMMARY:Varnie Vamp Presents: UNHALLOWED GROUNDS DRAG SHOW (All Ages)
DTSTAMP:20260419T220746Z
DTSTART:20250112T020000Z
DTEND:20250112T050000Z
DESCRIPTION:Varnie Vamp Presents\n\nUNHALLOWED GROUNDS DRAG SHOW\n[https://
	www.groundworkstucson.com/events/show-d34tk-thpxf-yzgj3-eaft6-33x36-a57tf-
	jbafk-m3jym-mhykn]\n\nfeat. Varnie Vamp\, Claire Voyant\, Mariah Pearl\, B
	ello 007\, Able\, Boo tease\,\nCyril\, Dykeal Fagson\n\nGroundworks (2919 
	E Grant Rd)\n\nSaturday\, January 11\, 2025\n\n7:00pm Doors\n\n$10 I Alway
	s all ages
URL:https://tucsontimeline.info/event/varnie-vamp-presents-unhallowed-groun
	ds-drag-show
LOCATION:Groundworks - 2919 E Grant Rd\, Tucson\, AZ 85716
STATUS:CONFIRMED
CATEGORIES:Drag
X-ALT-DESC;FMTTYPE=text/html:<p><em>Varnie Vamp Presents</em></p><p><a href
	="https://www.groundworkstucson.com/events/show-d34tk-thpxf-yzgj3-eaft6-33
	x36-a57tf-jbafk-m3jym-mhykn" target="_blank"><strong>UNHALLOWED GROUNDS DR
	AG SHOW</strong></a></p><p><strong>feat. Varnie Vamp, Claire Voyant, Maria
	h Pearl, Bello 007, Able, Boo tease, Cyril, Dykeal Fagson</strong></p><p>G
	roundworks (2919 E Grant Rd)</p><p>Saturday, January 11, 2025</p><p>7:00pm
	 Doors</p><p>$10 I Always all ages</p>
END:VEVENT
BEGIN:VEVENT
UID:127@tucsontimeline.info
SUMMARY:GWX + Tucson Zine Fest Presents Zine Club
DTSTAMP:20260419T220746Z
DTSTART:20250111T180000Z
DTEND:20250111T200000Z
DESCRIPTION:Zine-curious folks can come and learn how to make zines\, explo
	re Groundworks'\nzine library\, and chat with other like-minded zine enthu
	siasts. Free to attend.\nAll ages welcome.\n[https://www.groundworkstucson
	.com/events/show-d34tk-thpxf-yzgj3-eaft6-33x36-a57tf-b25g5-5ycgh-d7pkn-xld
	5p]
URL:https://tucsontimeline.info/event/gwx-tucson-zine-fest-presents-zine-cl
	ub
LOCATION:Groundworks - 2919 E Grant Rd\, Tucson\, AZ 85716
STATUS:CONFIRMED
CATEGORIES:art,Workshop
X-ALT-DESC;FMTTYPE=text/html:<p><a target="_blank" href="https://www.ground
	workstucson.com/events/show-d34tk-thpxf-yzgj3-eaft6-33x36-a57tf-b25g5-5ycg
	h-d7pkn-xld5p">Zine-curious folks can come and learn how to make zines, ex
	plore Groundworks' zine library, and chat with other like-minded zine enth
	usiasts. Free to attend. All ages welcome.</a></p>
END:VEVENT
BEGIN:VEVENT
UID:123@tucsontimeline.info
SUMMARY:TBA\, Sadchke\, and Sleepyhead (Solo) (Bob Colby Presents Second Th
	ursdays at Groundworks)
DTSTAMP:20260419T220746Z
DTSTART:20250110T020000Z
DTEND:20250110T050000Z
DESCRIPTION:Unfortunately\, THE WORKING PEOPLE have had to bow out of this 
	show. Watch this\nspace for further announcements!
URL:https://tucsontimeline.info/event/the-working-people-sadchke-and-sleepy
	head-solo-bob-colby-presents-second-thursdays-at-groundworks
LOCATION:Groundworks - 2919 E Grant Rd\, Tucson\, AZ 85716
STATUS:CONFIRMED
CATEGORIES:music
X-ALT-DESC;FMTTYPE=text/html:<p>Unfortunately, THE WORKING PEOPLE have had 
	to bow out of this show. Watch this space for further announcements!</p>
END:VEVENT
BEGIN:VEVENT
UID:5@tucsontimeline.info
SUMMARY:Groundworks “Camp”
DTSTAMP:20260419T220746Z
DTSTART:20240830T190000Z
DTEND:20240901T070000Z
DESCRIPTION:3 day festival
URL:https://tucsontimeline.info/event/groundworks-camp
LOCATION:Groundworks - 2919 E Grant Rd\, Tucson\, AZ 85716
STATUS:CONFIRMED
CATEGORIES:music
X-ALT-DESC;FMTTYPE=text/html:<p>3 day festival </p>
END:VEVENT
END:VCALENDAR
