BEGIN:VCALENDAR
VERSION:2.0
CALSCALE:GREGORIAN
PRODID:adamgibbons/ics
METHOD:PUBLISH
X-PUBLISHED-TTL:PT1H
BEGIN:VEVENT
UID:551@tucsontimeline.info
SUMMARY:Tucson Based Musicians\, DJs\, Producers\, Sound Enjoyers Hangout
DTSTAMP:20260423T123851Z
DTSTART:20260506T133000Z
DTEND:20260506T153000Z
URL:https://tucsontimeline.info/event/tucson-based-musicians-djs-producers-
	sound-enjoyers-hangout-27
LOCATION:Casa Video - 2905 E Speedway Blvd\, Tucson\, AZ 85716
STATUS:CONFIRMED
CATEGORIES:ambient,community,experimental,live music,music,performance
END:VEVENT
END:VCALENDAR
